BEGIN:VCALENDAR
VERSION:2.0
PRODID:-//The Velvet Note - ECPv6.15.20//NONSGML v1.0//EN
CALSCALE:GREGORIAN
METHOD:PUBLISH
X-ORIGINAL-URL:https://thevelvetnote.com
X-WR-CALDESC:Events for The Velvet Note
REFRESH-INTERVAL;VALUE=DURATION:PT1H
X-Robots-Tag:noindex
X-PUBLISHED-TTL:PT1H
BEGIN:VTIMEZONE
TZID:America/New_York
BEGIN:DAYLIGHT
TZOFFSETFROM:-0500
TZOFFSETTO:-0400
TZNAME:EDT
DTSTART:20240310T070000
END:DAYLIGHT
BEGIN:STANDARD
TZOFFSETFROM:-0400
TZOFFSETTO:-0500
TZNAME:EST
DTSTART:20241103T060000
END:STANDARD
BEGIN:DAYLIGHT
TZOFFSETFROM:-0500
TZOFFSETTO:-0400
TZNAME:EDT
DTSTART:20250309T070000
END:DAYLIGHT
BEGIN:STANDARD
TZOFFSETFROM:-0400
TZOFFSETTO:-0500
TZNAME:EST
DTSTART:20251102T060000
END:STANDARD
BEGIN:DAYLIGHT
TZOFFSETFROM:-0500
TZOFFSETTO:-0400
TZNAME:EDT
DTSTART:20260308T070000
END:DAYLIGHT
BEGIN:STANDARD
TZOFFSETFROM:-0400
TZOFFSETTO:-0500
TZNAME:EST
DTSTART:20261101T060000
END:STANDARD
END:VTIMEZONE
BEGIN:VEVENT
DTSTART;TZID=America/New_York:20250125T193000
DTEND;TZID=America/New_York:20250125T230000
DTSTAMP:20260422T125548
CREATED:20241119T174137Z
LAST-MODIFIED:20241119T174504Z
UID:30429-1737833400-1737846000@thevelvetnote.com
SUMMARY:Saturday\, January 25th:  The Ray Howard Band Earth Wind\, and Fire Fundraising Gala
DESCRIPTION:ONE NIGHT ONLY! Please join us for our 2025 Velvet Note Fundraiser\, starring The Ray Howard Band’s Tribute to Earth\, Wind and Fire! Over the past several months\, many of you have asked how you can help. This is your opportunity to help us ensure that we can continue to bring great music to you and your family and friends. \n\n\n\nBronze – $69 (ticket) \n\n\n\nSilver – $250 (ticket plus three course dinner included and silver sponsor recognition) \n\n\n\nGold – $500 (ticket plus dinner and gold sponsor recognition) \n\n\n\nThank you so much for your support and we look forward to celebrating with you soon!
URL:https://thevelvetnote.com/event/saturday-january-25th-the-ray-howard-band-earth-wind-and-fire-fundraising-gala/
LOCATION:The Velvet Note Main Stage\, 4075 Old Milton Parkway\, Alpharetta\, 30005\, United States
ATTACH;FMTTYPE=image/jpeg:https://thevelvetnote.com/wp-content/uploads/2024/11/10501615241677893074.jpeg
END:VEVENT
END:VCALENDAR