BEGIN:VCALENDAR
VERSION:2.0
PRODID:-//The Velvet Note - ECPv6.15.20//NONSGML v1.0//EN
CALSCALE:GREGORIAN
METHOD:PUBLISH
X-ORIGINAL-URL:https://thevelvetnote.com
X-WR-CALDESC:Events for The Velvet Note
REFRESH-INTERVAL;VALUE=DURATION:PT1H
X-Robots-Tag:noindex
X-PUBLISHED-TTL:PT1H
BEGIN:VTIMEZONE
TZID:America/New_York
BEGIN:DAYLIGHT
TZOFFSETFROM:-0500
TZOFFSETTO:-0400
TZNAME:EDT
DTSTART:20230312T070000
END:DAYLIGHT
BEGIN:STANDARD
TZOFFSETFROM:-0400
TZOFFSETTO:-0500
TZNAME:EST
DTSTART:20231105T060000
END:STANDARD
BEGIN:DAYLIGHT
TZOFFSETFROM:-0500
TZOFFSETTO:-0400
TZNAME:EDT
DTSTART:20240310T070000
END:DAYLIGHT
BEGIN:STANDARD
TZOFFSETFROM:-0400
TZOFFSETTO:-0500
TZNAME:EST
DTSTART:20241103T060000
END:STANDARD
BEGIN:DAYLIGHT
TZOFFSETFROM:-0500
TZOFFSETTO:-0400
TZNAME:EDT
DTSTART:20250309T070000
END:DAYLIGHT
BEGIN:STANDARD
TZOFFSETFROM:-0400
TZOFFSETTO:-0500
TZNAME:EST
DTSTART:20251102T060000
END:STANDARD
END:VTIMEZONE
BEGIN:VEVENT
DTSTART;TZID=America/New_York:20241228T193000
DTEND;TZID=America/New_York:20241228T230000
DTSTAMP:20260422T142547
CREATED:20241116T161737Z
LAST-MODIFIED:20241227T174157Z
UID:30420-1735414200-1735426800@thevelvetnote.com
SUMMARY:Saturday\, December 28th:   Red Sugar Blues  ***SOLD OUT!!  SOLD OUT!!  SOLD OUT!!   SOLD OUT!!  ****
DESCRIPTION:‘ And she looks like a piece of cake walking’ Jimmy Burns – Legendary Blues Guitarist \n\n\n\n‘ Mississippi gives birth to Red Sugar Blues. Real talk. Real love. \n\n\n\nCastro Coleman – Mr. Sipp Mississippi Blues Child \n\n\n\n‘ ‘Red Sugar Blues hits the stage runnin’ and just doesn’t stop’ \n\n\n\nMick Kolassa – Taylor Made Blues Band \n\n\n\n…Red Sugar Blues is being recognized as a powerhouse blues band birthed from the soil of Magnolia and McComb Mississippi…it is the stature of this petite lead vocalist Red Sugar that draws and delivers deep seeded sounds and mountainous moans with rawness and ease…sultry…stunning and alluringly talented…the movement of such profound vocals should never be confused with the ability to resound and resonate each note so delicate and pleasing to the ear…whenever Red Sugar Blues hits any stage…in the clubs…festivals…weddings…corporate and private events…Red Sugar’s soulful contralto is the backdrop with an incredibly talented rhythm section…the gift of her talent…combined with master musicians…will bring great delight to every audience…
URL:https://thevelvetnote.com/event/saturday-december-28th-red-sugar-blues/
LOCATION:The Velvet Note Main Stage\, 4075 Old Milton Parkway\, Alpharetta\, 30005\, United States
ATTACH;FMTTYPE=image/jpeg:https://thevelvetnote.com/wp-content/uploads/2024/11/Red-Sugar-Blues-The-Velvet-Note-12-28-24-3.jpg
END:VEVENT
END:VCALENDAR