BEGIN:VCALENDAR
VERSION:2.0
PRODID:-//The Velvet Note - ECPv6.15.20//NONSGML v1.0//EN
CALSCALE:GREGORIAN
METHOD:PUBLISH
X-ORIGINAL-URL:https://thevelvetnote.com
X-WR-CALDESC:Events for The Velvet Note
REFRESH-INTERVAL;VALUE=DURATION:PT1H
X-Robots-Tag:noindex
X-PUBLISHED-TTL:PT1H
BEGIN:VTIMEZONE
TZID:America/New_York
BEGIN:DAYLIGHT
TZOFFSETFROM:-0500
TZOFFSETTO:-0400
TZNAME:EDT
DTSTART:20230312T070000
END:DAYLIGHT
BEGIN:STANDARD
TZOFFSETFROM:-0400
TZOFFSETTO:-0500
TZNAME:EST
DTSTART:20231105T060000
END:STANDARD
BEGIN:DAYLIGHT
TZOFFSETFROM:-0500
TZOFFSETTO:-0400
TZNAME:EDT
DTSTART:20240310T070000
END:DAYLIGHT
BEGIN:STANDARD
TZOFFSETFROM:-0400
TZOFFSETTO:-0500
TZNAME:EST
DTSTART:20241103T060000
END:STANDARD
BEGIN:DAYLIGHT
TZOFFSETFROM:-0500
TZOFFSETTO:-0400
TZNAME:EDT
DTSTART:20250309T070000
END:DAYLIGHT
BEGIN:STANDARD
TZOFFSETFROM:-0400
TZOFFSETTO:-0500
TZNAME:EST
DTSTART:20251102T060000
END:STANDARD
END:VTIMEZONE
BEGIN:VEVENT
DTSTART;TZID=America/New_York:20241205T200000
DTEND;TZID=America/New_York:20241205T230000
DTSTAMP:20260422T142547
CREATED:20241203T204200Z
LAST-MODIFIED:20241203T204224Z
UID:30451-1733428800-1733439600@thevelvetnote.com
SUMMARY:Thursday\, December 5th:  Open Mic Jam [Dueling Piano Special]
DESCRIPTION:ONE SHOW ONLY: 8:00pm. Georgia’s LONGEST-RUNNING OPEN MIC JAM is at The Velvet Note\, and you are invited! Open Mic is a little like Karaoke\, but much\, much better\, with full bar and kitchen\, too. Come out and listen to or jam with our extraordinary house band\, or take the stage all on your own. This week\, pianists William Green and Karl Antoine with both be on the stage!   Bring your talent\, bring date\, bring your instrument\, bring your clapping hands\, and join the fun. Hosted by club owner Tamara Fuller and she’s always on the hunt for talent!
URL:https://thevelvetnote.com/event/thursday-december-5th-open-mic-jam-dueling-piano-special/
LOCATION:The Velvet Note Main Stage\, 4075 Old Milton Parkway\, Alpharetta\, 30005\, United States
ATTACH;FMTTYPE=image/jpeg:https://thevelvetnote.com/wp-content/uploads/2024/12/DUEL-PIANOS-@-OPEN-MIC-JAM-2.jpg
END:VEVENT
END:VCALENDAR