BEGIN:VCALENDAR
VERSION:2.0
PRODID:-//The Velvet Note - ECPv6.15.20//NONSGML v1.0//EN
CALSCALE:GREGORIAN
METHOD:PUBLISH
X-WR-CALNAME:The Velvet Note
X-ORIGINAL-URL:https://thevelvetnote.com
X-WR-CALDESC:Events for The Velvet Note
REFRESH-INTERVAL;VALUE=DURATION:PT1H
X-Robots-Tag:noindex
X-PUBLISHED-TTL:PT1H
BEGIN:VTIMEZONE
TZID:America/New_York
BEGIN:DAYLIGHT
TZOFFSETFROM:-0500
TZOFFSETTO:-0400
TZNAME:EDT
DTSTART:20230312T070000
END:DAYLIGHT
BEGIN:STANDARD
TZOFFSETFROM:-0400
TZOFFSETTO:-0500
TZNAME:EST
DTSTART:20231105T060000
END:STANDARD
BEGIN:DAYLIGHT
TZOFFSETFROM:-0500
TZOFFSETTO:-0400
TZNAME:EDT
DTSTART:20240310T070000
END:DAYLIGHT
BEGIN:STANDARD
TZOFFSETFROM:-0400
TZOFFSETTO:-0500
TZNAME:EST
DTSTART:20241103T060000
END:STANDARD
BEGIN:DAYLIGHT
TZOFFSETFROM:-0500
TZOFFSETTO:-0400
TZNAME:EDT
DTSTART:20250309T070000
END:DAYLIGHT
BEGIN:STANDARD
TZOFFSETFROM:-0400
TZOFFSETTO:-0500
TZNAME:EST
DTSTART:20251102T060000
END:STANDARD
END:VTIMEZONE
BEGIN:VEVENT
DTSTART;TZID=America/New_York:20241020T193000
DTEND;TZID=America/New_York:20241020T210000
DTSTAMP:20260422T165749
CREATED:20241002T190335Z
LAST-MODIFIED:20241002T190751Z
UID:30308-1729452600-1729458000@thevelvetnote.com
SUMMARY:Sunday\, October 20th:  Entertainer Freddy B!
DESCRIPTION:ONE SHOW at 7:30pm. Freddie B’s versatile baritone voice has made him one of the signature male vocalists in both blues and jazz\, responsible for some of best standards in modern times that have captivated audiences around the world. \n\n\n\nBorn and raised in Chicago\, Freddie B’s transition into blues was an easy one\, as mis distinctive smooth musical stylings has made him a crowd favorite in blues circuits in the Midwest. \n\n\n\nBranching out his musical tastes into jazz going out west\, Freddie B. successfully transitioned to traditional jazz standards and fusion culminating critically acclaimed releases and concerts along the west coast. \n\n\n\nFreddie B is a voice you won’t forget and a name that lasts a lifetime.
URL:https://thevelvetnote.com/event/sunday-october-20th-entertainer-freddy-b/
LOCATION:The Velvet Note Main Stage\, 4075 Old Milton Parkway\, Alpharetta\, 30005\, United States
ATTACH;FMTTYPE=image/jpeg:https://thevelvetnote.com/wp-content/uploads/2024/10/unnamed.jpeg
END:VEVENT
END:VCALENDAR