BEGIN:VCALENDAR
VERSION:2.0
PRODID:-//The Velvet Note - ECPv6.15.20//NONSGML v1.0//EN
CALSCALE:GREGORIAN
METHOD:PUBLISH
X-WR-CALNAME:The Velvet Note
X-ORIGINAL-URL:https://thevelvetnote.com
X-WR-CALDESC:Events for The Velvet Note
REFRESH-INTERVAL;VALUE=DURATION:PT1H
X-Robots-Tag:noindex
X-PUBLISHED-TTL:PT1H
BEGIN:VTIMEZONE
TZID:America/New_York
BEGIN:DAYLIGHT
TZOFFSETFROM:-0500
TZOFFSETTO:-0400
TZNAME:EDT
DTSTART:20230312T070000
END:DAYLIGHT
BEGIN:STANDARD
TZOFFSETFROM:-0400
TZOFFSETTO:-0500
TZNAME:EST
DTSTART:20231105T060000
END:STANDARD
BEGIN:DAYLIGHT
TZOFFSETFROM:-0500
TZOFFSETTO:-0400
TZNAME:EDT
DTSTART:20240310T070000
END:DAYLIGHT
BEGIN:STANDARD
TZOFFSETFROM:-0400
TZOFFSETTO:-0500
TZNAME:EST
DTSTART:20241103T060000
END:STANDARD
BEGIN:DAYLIGHT
TZOFFSETFROM:-0500
TZOFFSETTO:-0400
TZNAME:EDT
DTSTART:20250309T070000
END:DAYLIGHT
BEGIN:STANDARD
TZOFFSETFROM:-0400
TZOFFSETTO:-0500
TZNAME:EST
DTSTART:20251102T060000
END:STANDARD
END:VTIMEZONE
BEGIN:VEVENT
DTSTART;TZID=America/New_York:20241016T183000
DTEND;TZID=America/New_York:20241016T203000
DTSTAMP:20260422T165748
CREATED:20240902T164609Z
LAST-MODIFIED:20240902T164634Z
UID:30273-1729103400-1729110600@thevelvetnote.com
SUMMARY:Wednesday\, October 16th:  Sasha Masakowski's Celebration of The Music of Antonio Carlos Jobim
DESCRIPTION:SHOWTIMES:  6:30PM AND 8:30PM.   Sasha was listed as one of 12 jazz artists to watch in 2019 by Paste Magazine\, Offbeat Magazine calls her “One of the brightest young talents in the Big Easy\,” Vanity Fair Magazine listed Sasha as one of the top jazz musicians in the U.S. and Downbeat Magazine has named Sasha among the most innovative musicians coming out of New Orleans to date.  \n\n\n\nIn this performance\, Sasha celebrates the music of Antônio Carlos Jobim (born January 25\, 1927\, Rio de Janeiro\, Brazil—died December 8\, 1994\, New York\, New York\, U.S.) was a Brazilian songwriter\, composer\, and arranger who transformed the extroverted rhythms of the Brazilian samba into an intimate music\, the bossa nova (“new trend”)\, which became internationally popular in the 1960s. \n\n\n\nCome on out and join us for our special cocktail\, called the Samba: Quince jelly\, gin\, lemon juice\, sugar syrup and thin slices of cucumber– yummy!
URL:https://thevelvetnote.com/event/wednesday-october-16th-sasha-masakowskis-celebration-of-the-music-of-antonio-carlos-jobim/
LOCATION:The Velvet Note Main Stage\, 4075 Old Milton Parkway\, Alpharetta\, 30005\, United States
ATTACH;FMTTYPE=image/jpeg:https://thevelvetnote.com/wp-content/uploads/2024/09/90.jpeg
END:VEVENT
END:VCALENDAR