BEGIN:VCALENDAR
VERSION:2.0
PRODID:-//The Velvet Note - ECPv6.15.20//NONSGML v1.0//EN
CALSCALE:GREGORIAN
METHOD:PUBLISH
X-ORIGINAL-URL:https://thevelvetnote.com
X-WR-CALDESC:Events for The Velvet Note
REFRESH-INTERVAL;VALUE=DURATION:PT1H
X-Robots-Tag:noindex
X-PUBLISHED-TTL:PT1H
BEGIN:VTIMEZONE
TZID:America/New_York
BEGIN:DAYLIGHT
TZOFFSETFROM:-0500
TZOFFSETTO:-0400
TZNAME:EDT
DTSTART:20230312T070000
END:DAYLIGHT
BEGIN:STANDARD
TZOFFSETFROM:-0400
TZOFFSETTO:-0500
TZNAME:EST
DTSTART:20231105T060000
END:STANDARD
BEGIN:DAYLIGHT
TZOFFSETFROM:-0500
TZOFFSETTO:-0400
TZNAME:EDT
DTSTART:20240310T070000
END:DAYLIGHT
BEGIN:STANDARD
TZOFFSETFROM:-0400
TZOFFSETTO:-0500
TZNAME:EST
DTSTART:20241103T060000
END:STANDARD
BEGIN:DAYLIGHT
TZOFFSETFROM:-0500
TZOFFSETTO:-0400
TZNAME:EDT
DTSTART:20250309T070000
END:DAYLIGHT
BEGIN:STANDARD
TZOFFSETFROM:-0400
TZOFFSETTO:-0500
TZNAME:EST
DTSTART:20251102T060000
END:STANDARD
END:VTIMEZONE
BEGIN:VEVENT
DTSTART;TZID=America/New_York:20241013T183000
DTEND;TZID=America/New_York:20241013T203000
DTSTAMP:20260422T165850
CREATED:20240902T185514Z
LAST-MODIFIED:20240902T185646Z
UID:30276-1728844200-1728851400@thevelvetnote.com
SUMMARY:Sunday\, October 13th:  Jazz and Gospel Singer Melvin Myles
DESCRIPTION:SHOWTIMES:  6:30PM AND 8:30PM.   Melvin Kindall Myles\, an accomplished vocal artist from Atlanta\, GA\, has carved a niche for himself in the music industry with his versatile and powerful voice that spans across multiple genres\, including Gospel\, Blues\, Jazz\, and Classical. His journey in music began at a young age\, singing in his local church choir\, where he first discovered his passion for gospel music. This early exposure laid the foundation for his diverse musical career\, allowing him to develop a unique style that combines the soulfulness of gospel with the complexity of jazz and the emotional depth of blues. \n\n\n\nAfter years of honing his craft\, Melvin emerged as a solo artist\, captivating audienceswith his emotive performances and profound lyrical content. His music\, deeply rooted inpersonal experiences and social commentary\, resonates with a wide range of listeners\,earning him a respected place among contemporary vocal artists. \n\n\n\nBeyond his solo endeavors\, Melvin Myles has found a kindred spirit in Rabbi MicahLapidus\, a renowned songwriter and composer known for his spiritual and inspirationalcompositions. Together\, they form a dynamic duo\, traveling across the country to sharetheir music and messages of love\, equality\, and equity for all. Their collaboration is notjust a musical journey but a mission to heal and unite communities through the power ofmusic.Their performances\, often described as a blend of musical excellence and social activism\, have touched the hearts of many\, fostering a sense of community and understanding among diverse audiences. Through their songs\, Melvin and Rabbi Lapidus advocate for a world where love transcends boundaries\, and equality and equity are not just ideals but realities.As a vocal artist\, Melvin Myles continues to push the boundaries of his art\, exploringnew genres and themes in his music. His commitment to his craft and his dedication tosocial causes have made him a beloved figure in the music scene and beyond. Witheach performance\, he strives to bring a little more light into the world\, using his voice asa tool for change and inspiration.In the ever-evolving landscape of music\, Melvin Myles stands out as a beacon of hopeand a reminder of the power of art to transform lives. His journey is a testament to theimpact one individual can make\, blending talent and passion with a deep commitment tomaking the world a better place for all.
URL:https://thevelvetnote.com/event/sunday-october-13th-jazz-and-gospel-singer-melvin-myles/
LOCATION:The Velvet Note Main Stage\, 4075 Old Milton Parkway\, Alpharetta\, 30005\, United States
ATTACH;FMTTYPE=image/jpeg:https://thevelvetnote.com/wp-content/uploads/2024/09/Headshot-scaled.jpg
END:VEVENT
END:VCALENDAR