BEGIN:VCALENDAR
VERSION:2.0
PRODID:-//The Velvet Note - ECPv6.15.20//NONSGML v1.0//EN
CALSCALE:GREGORIAN
METHOD:PUBLISH
X-WR-CALNAME:The Velvet Note
X-ORIGINAL-URL:https://thevelvetnote.com
X-WR-CALDESC:Events for The Velvet Note
REFRESH-INTERVAL;VALUE=DURATION:PT1H
X-Robots-Tag:noindex
X-PUBLISHED-TTL:PT1H
BEGIN:VTIMEZONE
TZID:America/New_York
BEGIN:DAYLIGHT
TZOFFSETFROM:-0500
TZOFFSETTO:-0400
TZNAME:EDT
DTSTART:20230312T070000
END:DAYLIGHT
BEGIN:STANDARD
TZOFFSETFROM:-0400
TZOFFSETTO:-0500
TZNAME:EST
DTSTART:20231105T060000
END:STANDARD
BEGIN:DAYLIGHT
TZOFFSETFROM:-0500
TZOFFSETTO:-0400
TZNAME:EDT
DTSTART:20240310T070000
END:DAYLIGHT
BEGIN:STANDARD
TZOFFSETFROM:-0400
TZOFFSETTO:-0500
TZNAME:EST
DTSTART:20241103T060000
END:STANDARD
BEGIN:DAYLIGHT
TZOFFSETFROM:-0500
TZOFFSETTO:-0400
TZNAME:EDT
DTSTART:20250309T070000
END:DAYLIGHT
BEGIN:STANDARD
TZOFFSETFROM:-0400
TZOFFSETTO:-0500
TZNAME:EST
DTSTART:20251102T060000
END:STANDARD
END:VTIMEZONE
BEGIN:VEVENT
DTSTART;TZID=America/New_York:20241012T193000
DTEND;TZID=America/New_York:20241012T230000
DTSTAMP:20260422T165748
CREATED:20241007T194937Z
LAST-MODIFIED:20241007T201345Z
UID:30320-1728761400-1728774000@thevelvetnote.com
SUMMARY:Saturday\, October 12th:  The Justin Ruff Quartet
DESCRIPTION:SHOWTIMES: 7:30PM AND 9:30PM. Hip Hop and R&B are a match made in musical heaven\, but what happens when a formally trained Jazz vocalist enters the chat? You get Justin Ruff — a singer/songwriter who’s here to prove that R&B could never die.  \n\n\n\nHe’s got a thing for acoustic sets and he’s giving us a front row seat to an intimate experience with his latest EP “Sessions Vol. 1.” Smooth vocals float over stripped down instrumentation for just over 11 mins of melodic bliss.  \n\n\n\nHe even launched his hand-poured candle line\, Justin Ruff Candle Co.\, to help set the vibe and create a fully immersive listening experience.  \n\n\n\nJustin has shared stages with everyone from Ginuwine to Queen Naija and he’s ready to share his most personal work with you.  \n\n\n\nWatch Justin Ruff perform on Atlanta & Company HERE. \n\n\n\nTo keep up with performances\, purchase candles or simply get to know more about the man behind the sound\, visit justinruffmusic.com 
URL:https://thevelvetnote.com/event/saturday-october-12th-the-justin-ruff-quartet/
LOCATION:The Velvet Note Main Stage\, 4075 Old Milton Parkway\, Alpharetta\, 30005\, United States
ATTACH;FMTTYPE=image/jpeg:https://thevelvetnote.com/wp-content/uploads/2024/10/JustinRuffMusic1.jpeg
END:VEVENT
END:VCALENDAR