BEGIN:VCALENDAR
VERSION:2.0
PRODID:-//The Velvet Note - ECPv6.15.20//NONSGML v1.0//EN
CALSCALE:GREGORIAN
METHOD:PUBLISH
X-WR-CALNAME:The Velvet Note
X-ORIGINAL-URL:https://thevelvetnote.com
X-WR-CALDESC:Events for The Velvet Note
REFRESH-INTERVAL;VALUE=DURATION:PT1H
X-Robots-Tag:noindex
X-PUBLISHED-TTL:PT1H
BEGIN:VTIMEZONE
TZID:America/New_York
BEGIN:DAYLIGHT
TZOFFSETFROM:-0500
TZOFFSETTO:-0400
TZNAME:EDT
DTSTART:20230312T070000
END:DAYLIGHT
BEGIN:STANDARD
TZOFFSETFROM:-0400
TZOFFSETTO:-0500
TZNAME:EST
DTSTART:20231105T060000
END:STANDARD
BEGIN:DAYLIGHT
TZOFFSETFROM:-0500
TZOFFSETTO:-0400
TZNAME:EDT
DTSTART:20240310T070000
END:DAYLIGHT
BEGIN:STANDARD
TZOFFSETFROM:-0400
TZOFFSETTO:-0500
TZNAME:EST
DTSTART:20241103T060000
END:STANDARD
BEGIN:DAYLIGHT
TZOFFSETFROM:-0500
TZOFFSETTO:-0400
TZNAME:EDT
DTSTART:20250309T070000
END:DAYLIGHT
BEGIN:STANDARD
TZOFFSETFROM:-0400
TZOFFSETTO:-0500
TZNAME:EST
DTSTART:20251102T060000
END:STANDARD
END:VTIMEZONE
BEGIN:VEVENT
DTSTART;TZID=America/New_York:20241005T193000
DTEND;TZID=America/New_York:20241005T230000
DTSTAMP:20260422T165749
CREATED:20240902T133813Z
LAST-MODIFIED:20240902T133814Z
UID:30264-1728156600-1728169200@thevelvetnote.com
SUMMARY:Saturday\, October 5th:  Master Percussionist Bradie Speller
DESCRIPTION:SHOWTIMES:  7:30PM AND 9:30PM.   A master percussionist and rhythm programmer\, who now\, as a result of his early interest and exploration of electronic percussion instruments\, finds himself at the forefront of the current electronic percussion age. \n\n\n\nBradie’s unique style of African and Latin drumming carried him into live performances and recording sessions with musical heavy weights such as: Cecil Taylor; Weather Report; Herbie Hancock; Jon Lucien; Tina Turner; The Sylvers; The Pyramids; Tarika Blue; Alphonse Mouzon; Leslie Uggams; Peter Erskine; Lannie Kazan; Ryo Kawasaki ; Edwin Starr; Mary Wells & many others too numerous to name. Bradie has toured the world exciting crowds with his powerful solos and overall showmanship. Bradie Speller is the leader of Climate Change\, a musical venture he calls “Social Music” which blends Jazz\, R&B\, Fusion\, Latin and Classical to reshape what was called Jazz bringing it into the 21st Century. 
URL:https://thevelvetnote.com/event/saturday-october-5th-master-percussionist-bradie-speller/
LOCATION:The Velvet Note Main Stage\, 4075 Old Milton Parkway\, Alpharetta\, 30005\, United States
ATTACH;FMTTYPE=image/jpeg:https://thevelvetnote.com/wp-content/uploads/2024/07/images.jpeg
END:VEVENT
END:VCALENDAR