BEGIN:VCALENDAR
VERSION:2.0
PRODID:-//The Velvet Note - ECPv6.15.20//NONSGML v1.0//EN
CALSCALE:GREGORIAN
METHOD:PUBLISH
X-WR-CALNAME:The Velvet Note
X-ORIGINAL-URL:https://thevelvetnote.com
X-WR-CALDESC:Events for The Velvet Note
REFRESH-INTERVAL;VALUE=DURATION:PT1H
X-Robots-Tag:noindex
X-PUBLISHED-TTL:PT1H
BEGIN:VTIMEZONE
TZID:America/New_York
BEGIN:DAYLIGHT
TZOFFSETFROM:-0500
TZOFFSETTO:-0400
TZNAME:EDT
DTSTART:20230312T070000
END:DAYLIGHT
BEGIN:STANDARD
TZOFFSETFROM:-0400
TZOFFSETTO:-0500
TZNAME:EST
DTSTART:20231105T060000
END:STANDARD
BEGIN:DAYLIGHT
TZOFFSETFROM:-0500
TZOFFSETTO:-0400
TZNAME:EDT
DTSTART:20240310T070000
END:DAYLIGHT
BEGIN:STANDARD
TZOFFSETFROM:-0400
TZOFFSETTO:-0500
TZNAME:EST
DTSTART:20241103T060000
END:STANDARD
BEGIN:DAYLIGHT
TZOFFSETFROM:-0500
TZOFFSETTO:-0400
TZNAME:EDT
DTSTART:20250309T070000
END:DAYLIGHT
BEGIN:STANDARD
TZOFFSETFROM:-0400
TZOFFSETTO:-0500
TZNAME:EST
DTSTART:20251102T060000
END:STANDARD
END:VTIMEZONE
BEGIN:VEVENT
DTSTART;TZID=America/New_York:20241004T193000
DTEND;TZID=America/New_York:20241004T230000
DTSTAMP:20260422T165749
CREATED:20230613T011141Z
LAST-MODIFIED:20240902T130550Z
UID:29044-1728070200-1728082800@thevelvetnote.com
SUMMARY:Friday\, October 4th: Award-Winning Singer Joyce Licorish
DESCRIPTION:SHOWTIMES:  7:30PM AND 9:30PM.  Joyce Licorish is a creative visionary with a unique ability for storytelling through writing\, speaking\, film and music.  She is a public speaker\, voice actress\, and vocalist known internationally and nationally for performing Jazz\, R&B\, Opera and Soul\, she has been opener for Chaka\, Babyface\, Isleys\, Boyz II Men and more \, she is the Winner of Cobb idol 2021 and the voice of Subway. 
URL:https://thevelvetnote.com/event/saturday-july-7th-award-winning-singer-joyce-licorish/
LOCATION:The Velvet Note Main Stage\, 4075 Old Milton Parkway\, Alpharetta\, 30005\, United States
ATTACH;FMTTYPE=image/jpeg:https://thevelvetnote.com/wp-content/uploads/2023/01/joyce-licorish.jpg
END:VEVENT
END:VCALENDAR