BEGIN:VCALENDAR
VERSION:2.0
PRODID:-//The Velvet Note - ECPv6.15.20//NONSGML v1.0//EN
CALSCALE:GREGORIAN
METHOD:PUBLISH
X-ORIGINAL-URL:https://thevelvetnote.com
X-WR-CALDESC:Events for The Velvet Note
REFRESH-INTERVAL;VALUE=DURATION:PT1H
X-Robots-Tag:noindex
X-PUBLISHED-TTL:PT1H
BEGIN:VTIMEZONE
TZID:America/New_York
BEGIN:DAYLIGHT
TZOFFSETFROM:-0500
TZOFFSETTO:-0400
TZNAME:EDT
DTSTART:20230312T070000
END:DAYLIGHT
BEGIN:STANDARD
TZOFFSETFROM:-0400
TZOFFSETTO:-0500
TZNAME:EST
DTSTART:20231105T060000
END:STANDARD
BEGIN:DAYLIGHT
TZOFFSETFROM:-0500
TZOFFSETTO:-0400
TZNAME:EDT
DTSTART:20240310T070000
END:DAYLIGHT
BEGIN:STANDARD
TZOFFSETFROM:-0400
TZOFFSETTO:-0500
TZNAME:EST
DTSTART:20241103T060000
END:STANDARD
BEGIN:DAYLIGHT
TZOFFSETFROM:-0500
TZOFFSETTO:-0400
TZNAME:EDT
DTSTART:20250309T070000
END:DAYLIGHT
BEGIN:STANDARD
TZOFFSETFROM:-0400
TZOFFSETTO:-0500
TZNAME:EST
DTSTART:20251102T060000
END:STANDARD
END:VTIMEZONE
BEGIN:VEVENT
DTSTART;TZID=America/New_York:20240921T193000
DTEND;TZID=America/New_York:20240921T230000
DTSTAMP:20260422T182804
CREATED:20240902T114643Z
LAST-MODIFIED:20240904T000837Z
UID:30256-1726947000-1726959600@thevelvetnote.com
SUMMARY:Saturday\, September 21st:  The Mark Adams Trio
DESCRIPTION:SHOWTIMES: 7:30PM AND 9:30PM. “Live Life with Passion” is Mark Adams’ motto for the new Jazz generation. Adams served as the music director for the legendary producer/composer Roy Ayers for thirty years.   This Baltimore native\, son of professional musicians\, and world class Jazz and Soul pianist began music training at five years old when Velma Adams\, his mother and a former music instructor\, sat him down at the piano. Seven years later his family re-located to New York City where his late father\, the renowned Broadway classical woodwind player Kenneth Adams\, inspired him to study classical music and jazz at the Greenwich Village School of Music and to consider a career as a pianist. \n\n\n\nAdams is a composer and musical director and regularly performs throughout the U.S.\, Cuba\, Europe\, Australia\, New Zealand\, Nigeria\, South Africa\, Turkey\, Japan and China with jazz legend and mentor Roy Ayers (whom he calls his surrogate father). He has toured with many other renowned artists including Ron Carter\, Ronnie Laws\, Hugh Masekela\, the late Lou Rawls\, Bobbie Humphrey\, Angela Bofil\, Jon Lucien\, Lonnie Liston Smith\, Lela Hathaway\, Dave Valentine\, Wayne Henderson and tap dance sensation\, Savion Glover. He has performed with R&B artists Erika Badu\, Mary J. Blige\, Maysa\, Bilal\, Jocelyn Brown\, Queen Latifa and DJ Pete Rock. Adams also debuted as on Broadway in the musical ‘Five Guys Named Moe’ and ‘The Color Purple’ and in numerous off-Broadway productions\, including in Frankfort\, Germany. \n\n\n\nMark Adams’ live sound\, ‘Fresh & New\,’ is “the beginning of the new movement of Souljazz\, transport[ing] Jazz away from the Smooth Jazz format” and in 2010 Adams began touring under his own name. Adams has a Bachelor of Fine Arts in Music Performance from City College\, City University of New York (CUNY) and a Master of Arts from Queens College – City University of New York (CUNY). He is a faculty member at York College (CUNY) in New York where he teaches music theory and jazz history\, music appreciation\, beginning and advanced piano techniques (classical and jazz)\, jazz styles and techniques\, jazz improvisation\, keyboard harmony\, and advanced harmony – forms and analysis.
URL:https://thevelvetnote.com/event/saturday-september-21st-the-mark-adams-trio/
LOCATION:The Velvet Note Main Stage\, 4075 Old Milton Parkway\, Alpharetta\, 30005\, United States
ATTACH;FMTTYPE=image/jpeg:https://thevelvetnote.com/wp-content/uploads/2024/09/Mark_Adams_JPEG.jpeg
END:VEVENT
END:VCALENDAR