BEGIN:VCALENDAR
VERSION:2.0
PRODID:-//The Velvet Note - ECPv6.15.20//NONSGML v1.0//EN
CALSCALE:GREGORIAN
METHOD:PUBLISH
X-ORIGINAL-URL:https://thevelvetnote.com
X-WR-CALDESC:Events for The Velvet Note
REFRESH-INTERVAL;VALUE=DURATION:PT1H
X-Robots-Tag:noindex
X-PUBLISHED-TTL:PT1H
BEGIN:VTIMEZONE
TZID:America/New_York
BEGIN:DAYLIGHT
TZOFFSETFROM:-0500
TZOFFSETTO:-0400
TZNAME:EDT
DTSTART:20230312T070000
END:DAYLIGHT
BEGIN:STANDARD
TZOFFSETFROM:-0400
TZOFFSETTO:-0500
TZNAME:EST
DTSTART:20231105T060000
END:STANDARD
BEGIN:DAYLIGHT
TZOFFSETFROM:-0500
TZOFFSETTO:-0400
TZNAME:EDT
DTSTART:20240310T070000
END:DAYLIGHT
BEGIN:STANDARD
TZOFFSETFROM:-0400
TZOFFSETTO:-0500
TZNAME:EST
DTSTART:20241103T060000
END:STANDARD
BEGIN:DAYLIGHT
TZOFFSETFROM:-0500
TZOFFSETTO:-0400
TZNAME:EDT
DTSTART:20250309T070000
END:DAYLIGHT
BEGIN:STANDARD
TZOFFSETFROM:-0400
TZOFFSETTO:-0500
TZNAME:EST
DTSTART:20251102T060000
END:STANDARD
END:VTIMEZONE
BEGIN:VEVENT
DTSTART;TZID=America/New_York:20240913T193000
DTEND;TZID=America/New_York:20240913T230000
DTSTAMP:20260422T182803
CREATED:20240901T221601Z
LAST-MODIFIED:20240904T004605Z
UID:30237-1726255800-1726268400@thevelvetnote.com
SUMMARY:Friday\, September 13th:  John "JSaxx" Watkins
DESCRIPTION:SHOWTIMES: 7:30PM AND 9:30PM. John Watkins\, a.k.a. “JSaxx”\, was born in Cleveland Ohio He developed his love for music at the early age of 8 by listening to his father Rev. John C. Watkins\, his uncle Lamar Gaines and his grandfather Charles Pace. Following in his family’s footsteps J Saxx picked up the saxophone and never put it down. Having the opportunity to enroll into the Cleveland School of Arts\, allowed J Saxx to expand his knowledge of wind instruments as well as music theory and music production. \n\n\n\nSome of J Saxx earlier influences stemmed from local sensations like Russell Thompson\, Kenny Legrand and Eddie Baccus\, Jr. to National recording artist Cannonball Adderley\, John Coltrane\, Grover Washington Jr.\,Charlie Parker\, Miles Davis\, Everett Harp\, Kirk Whalum\, Gerald Albright\, Cecil Rucker\, Eric Gould\, Michael Becker\, Joshua Redman\, Kenny \n\n\n\nGarrett\, David Sandborn\, Kenny G\, and Thelonius Monk. After Leading his band Notes and Sounds performing at several events as well as TV programs like FOX8 morning show\, Jazz saxophonist and recording artist John “J Saxx” Watkins is launched his solo career. \n\n\n\nJohns sound truly represents that common fabric that unifies all music across many mediums\, from traditional Jazz to old school R&B\, pop to fusion/rock; music that reaches all generations and age groups from both ends of the spectrum. They present new platform laced with a familiar touch of the old\, connecting all genres of music through one unified platform. J Saxx has shared the stage with the Whispers\, GC Cameron and the Temptations\, performed at the Black Heritage Festival in Kentucky\, he has also performed musical production play starring movie actor Leon.
URL:https://thevelvetnote.com/event/friday-september-13th-j-saxx-and-the-common-ground/
LOCATION:The Velvet Note Main Stage\, 4075 Old Milton Parkway\, Alpharetta\, 30005\, United States
ATTACH;FMTTYPE=image/jpeg:https://thevelvetnote.com/wp-content/uploads/2024/09/356905804_769012085227830_2599613449759662463_n-1.jpeg
END:VEVENT
END:VCALENDAR