BEGIN:VCALENDAR
VERSION:2.0
PRODID:-//The Velvet Note - ECPv6.15.20//NONSGML v1.0//EN
CALSCALE:GREGORIAN
METHOD:PUBLISH
X-ORIGINAL-URL:https://thevelvetnote.com
X-WR-CALDESC:Events for The Velvet Note
REFRESH-INTERVAL;VALUE=DURATION:PT1H
X-Robots-Tag:noindex
X-PUBLISHED-TTL:PT1H
BEGIN:VTIMEZONE
TZID:America/New_York
BEGIN:DAYLIGHT
TZOFFSETFROM:-0500
TZOFFSETTO:-0400
TZNAME:EDT
DTSTART:20230312T070000
END:DAYLIGHT
BEGIN:STANDARD
TZOFFSETFROM:-0400
TZOFFSETTO:-0500
TZNAME:EST
DTSTART:20231105T060000
END:STANDARD
BEGIN:DAYLIGHT
TZOFFSETFROM:-0500
TZOFFSETTO:-0400
TZNAME:EDT
DTSTART:20240310T070000
END:DAYLIGHT
BEGIN:STANDARD
TZOFFSETFROM:-0400
TZOFFSETTO:-0500
TZNAME:EST
DTSTART:20241103T060000
END:STANDARD
BEGIN:DAYLIGHT
TZOFFSETFROM:-0500
TZOFFSETTO:-0400
TZNAME:EDT
DTSTART:20250309T070000
END:DAYLIGHT
BEGIN:STANDARD
TZOFFSETFROM:-0400
TZOFFSETTO:-0500
TZNAME:EST
DTSTART:20251102T060000
END:STANDARD
END:VTIMEZONE
BEGIN:VEVENT
DTSTART;TZID=America/New_York:20240907T193000
DTEND;TZID=America/New_York:20240907T230000
DTSTAMP:20260422T182803
CREATED:20240902T011917Z
LAST-MODIFIED:20240902T011942Z
UID:30243-1725737400-1725750000@thevelvetnote.com
SUMMARY:Saturday\, September 7th:  Soul and Hip-Hop Band Sonic Communion
DESCRIPTION:SHOWTIMES:  7:30PM AND 9:30PM.    SONIC COMMUNION is a 4-piece soul and hip hop band based in Atlanta\, ga. the group features a drummer\, bassist\, keyboardist and a dynamic vocalist named Deion\, blending soulful melodies with hip hop rhythms to create a sound that’s both fresh and timeless. Known for their smooth grooves and captivating live performances\, SONIC COMMUNION brings together the best of both genres\, delivering a musical experience that’s both emotionally powerful and rhythmically engaging. They’ve become a standout act in the Atlanta music scene\, drawing fans with their authentic sound and tight musicianship.
URL:https://thevelvetnote.com/event/saturday-september-7th-soul-and-hip-hop-band-sonic-communion/
LOCATION:The Velvet Note Main Stage\, 4075 Old Milton Parkway\, Alpharetta\, 30005\, United States
ATTACH;FMTTYPE=image/jpeg:https://thevelvetnote.com/wp-content/uploads/2024/09/Untitled-design-145.jpg
END:VEVENT
END:VCALENDAR