BEGIN:VCALENDAR
VERSION:2.0
PRODID:-//The Velvet Note - ECPv6.15.20//NONSGML v1.0//EN
CALSCALE:GREGORIAN
METHOD:PUBLISH
X-WR-CALNAME:The Velvet Note
X-ORIGINAL-URL:https://thevelvetnote.com
X-WR-CALDESC:Events for The Velvet Note
REFRESH-INTERVAL;VALUE=DURATION:PT1H
X-Robots-Tag:noindex
X-PUBLISHED-TTL:PT1H
BEGIN:VTIMEZONE
TZID:America/New_York
BEGIN:DAYLIGHT
TZOFFSETFROM:-0500
TZOFFSETTO:-0400
TZNAME:EDT
DTSTART:20230312T070000
END:DAYLIGHT
BEGIN:STANDARD
TZOFFSETFROM:-0400
TZOFFSETTO:-0500
TZNAME:EST
DTSTART:20231105T060000
END:STANDARD
BEGIN:DAYLIGHT
TZOFFSETFROM:-0500
TZOFFSETTO:-0400
TZNAME:EDT
DTSTART:20240310T070000
END:DAYLIGHT
BEGIN:STANDARD
TZOFFSETFROM:-0400
TZOFFSETTO:-0500
TZNAME:EST
DTSTART:20241103T060000
END:STANDARD
BEGIN:DAYLIGHT
TZOFFSETFROM:-0500
TZOFFSETTO:-0400
TZNAME:EDT
DTSTART:20250309T070000
END:DAYLIGHT
BEGIN:STANDARD
TZOFFSETFROM:-0400
TZOFFSETTO:-0500
TZNAME:EST
DTSTART:20251102T060000
END:STANDARD
END:VTIMEZONE
BEGIN:VEVENT
DTSTART;TZID=America/New_York:20240804T183000
DTEND;TZID=America/New_York:20240804T220000
DTSTAMP:20260422T195526
CREATED:20240710T164952Z
LAST-MODIFIED:20240710T233834Z
UID:30113-1722796200-1722808800@thevelvetnote.com
SUMMARY:Sunday\, August 4th:  Trevor Wolford & The Sous Vide Trio
DESCRIPTION:SHOWTIMES:  6:30PM AND 8:30PM.  Trevor Wolford used the forced downtime during the pandemic to formulate and create “The Culinary Guitarist”\, a concept album paying homage to the chefs and culinary creatives of his hometown Atlanta. Trevor used his experience of performing and recording for artists of many genres to achieve an authentic sound that alludes to a particular culinary experience. Trevor & the Sous Vide Trio aim to revisit tracks from the album and debut new original compositions on their 2024 east coast tour.  
URL:https://thevelvetnote.com/event/friday-august-2nd-trevor-wolford-the-sous-vide-trio/
LOCATION:The Velvet Note Main Stage\, 4075 Old Milton Parkway\, Alpharetta\, 30005\, United States
ATTACH;FMTTYPE=image/jpeg:https://thevelvetnote.com/wp-content/uploads/2024/07/IMG_20240604_183138-1.jpg
END:VEVENT
END:VCALENDAR