BEGIN:VCALENDAR
VERSION:2.0
PRODID:-//The Velvet Note - ECPv6.15.20//NONSGML v1.0//EN
CALSCALE:GREGORIAN
METHOD:PUBLISH
X-WR-CALNAME:The Velvet Note
X-ORIGINAL-URL:https://thevelvetnote.com
X-WR-CALDESC:Events for The Velvet Note
REFRESH-INTERVAL;VALUE=DURATION:PT1H
X-Robots-Tag:noindex
X-PUBLISHED-TTL:PT1H
BEGIN:VTIMEZONE
TZID:America/New_York
BEGIN:DAYLIGHT
TZOFFSETFROM:-0500
TZOFFSETTO:-0400
TZNAME:EDT
DTSTART:20230312T070000
END:DAYLIGHT
BEGIN:STANDARD
TZOFFSETFROM:-0400
TZOFFSETTO:-0500
TZNAME:EST
DTSTART:20231105T060000
END:STANDARD
BEGIN:DAYLIGHT
TZOFFSETFROM:-0500
TZOFFSETTO:-0400
TZNAME:EDT
DTSTART:20240310T070000
END:DAYLIGHT
BEGIN:STANDARD
TZOFFSETFROM:-0400
TZOFFSETTO:-0500
TZNAME:EST
DTSTART:20241103T060000
END:STANDARD
BEGIN:DAYLIGHT
TZOFFSETFROM:-0500
TZOFFSETTO:-0400
TZNAME:EDT
DTSTART:20250309T070000
END:DAYLIGHT
BEGIN:STANDARD
TZOFFSETFROM:-0400
TZOFFSETTO:-0500
TZNAME:EST
DTSTART:20251102T060000
END:STANDARD
END:VTIMEZONE
BEGIN:VEVENT
DTSTART;TZID=America/New_York:20240714T183000
DTEND;TZID=America/New_York:20240714T220000
DTSTAMP:20260422T211035
CREATED:20240625T211423Z
LAST-MODIFIED:20240710T152221Z
UID:30077-1720981800-1720994400@thevelvetnote.com
SUMMARY:Sunday\, July 14th:  A Special Evening With Actor & Singer Keith David *** SOLD OUT!!  SOLD OUT!!   SOLD OUT!!  ***
DESCRIPTION:SHOWTIMES:  6:30PM AND 8:30PM.  Join us for a very special evening with the Voice of a Generation!  Keith David\, born and raised in New York City\, is a classically-trained graduate of the New York High School of the Performing Arts and The Juilliard School. His work has earned him Screen Actors Guild and Tony Award nominations\, an NAACP Image Award\, and three Emmy Awards. \n\n\n\nA frequent collaborator with documentarian Ken Burns\, David won his three Emmys for his voice-over performances in Jackie Robinson\, A Necessary War\, and Unforgivable Blackness: The Rise and Fall of Jack Johsnon. David has also enthralled viewers with his vocal talents in animated works such as The Princess and the Frog\, Rick and Morty\, Gargoyles\, and the Prime Video hit series\, Hazbin Hotel. \n\n\n\nDavid recently appeared in Cord Jefferson’s Oscar-winning film\, American Fiction\, Jordan Peele’s Nope\, and is also known for his prolific work in films such as 21 Bridges\, Crash\, There’s Something About Mary\, and many more. On the small screen\, David recently finished Duster\, a new series from JJ Abrams\, and The Gray House\, produced by Kevin Costner and Morgan Freeman; completed five seasons starring as Bishop James Greenleaf in Greenleaf on the OWN Network; and has been featured on series such as Blackish and Community. \n\n\n\nTrue to his reputation as a star of stage and screen\, David starred as Floyd Barton in Seven Guitars\, was nominated for a Tony for his role as Chimney Man in Jelly’s Last Jam\, and has toured with Too Marvelous for Words\, playing the legendary Nat King Cole.
URL:https://thevelvetnote.com/event/sunday-july-14th-a-special-evening-with-actor-singer-keith-david/
LOCATION:The Velvet Note Main Stage\, 4075 Old Milton Parkway\, Alpharetta\, 30005\, United States
ATTACH;FMTTYPE=image/jpeg:https://thevelvetnote.com/wp-content/uploads/2024/06/The-Juliard-School.jpg
END:VEVENT
END:VCALENDAR