BEGIN:VCALENDAR
VERSION:2.0
PRODID:-//The Velvet Note - ECPv6.15.20//NONSGML v1.0//EN
CALSCALE:GREGORIAN
METHOD:PUBLISH
X-ORIGINAL-URL:https://thevelvetnote.com
X-WR-CALDESC:Events for The Velvet Note
REFRESH-INTERVAL;VALUE=DURATION:PT1H
X-Robots-Tag:noindex
X-PUBLISHED-TTL:PT1H
BEGIN:VTIMEZONE
TZID:America/New_York
BEGIN:DAYLIGHT
TZOFFSETFROM:-0500
TZOFFSETTO:-0400
TZNAME:EDT
DTSTART:20230312T070000
END:DAYLIGHT
BEGIN:STANDARD
TZOFFSETFROM:-0400
TZOFFSETTO:-0500
TZNAME:EST
DTSTART:20231105T060000
END:STANDARD
BEGIN:DAYLIGHT
TZOFFSETFROM:-0500
TZOFFSETTO:-0400
TZNAME:EDT
DTSTART:20240310T070000
END:DAYLIGHT
BEGIN:STANDARD
TZOFFSETFROM:-0400
TZOFFSETTO:-0500
TZNAME:EST
DTSTART:20241103T060000
END:STANDARD
BEGIN:DAYLIGHT
TZOFFSETFROM:-0500
TZOFFSETTO:-0400
TZNAME:EDT
DTSTART:20250309T070000
END:DAYLIGHT
BEGIN:STANDARD
TZOFFSETFROM:-0400
TZOFFSETTO:-0500
TZNAME:EST
DTSTART:20251102T060000
END:STANDARD
END:VTIMEZONE
BEGIN:VEVENT
DTSTART;TZID=America/New_York:20240713T193000
DTEND;TZID=America/New_York:20240713T230000
DTSTAMP:20260422T211159
CREATED:20240402T003433Z
LAST-MODIFIED:20240708T020329Z
UID:29921-1720899000-1720911600@thevelvetnote.com
SUMMARY:Saturday\, July 13th :  Master Drummer Sonny Emory
DESCRIPTION:SHOW TIMES: 7:30PM AND 9:30PM. Drummer for Earth\, Wind and Fire & Eric Clapton makes a rare club appearance! Sonny Emory is a native of Atlanta who received his first drum set at the age of four. After graduating from Georgia State University with a Bachelor in Jazz Performance\, Sonny began his transition into becoming a professional drummer playing with Joe Sample and the Crusaders. With over 30 years of live performance and studio work behind him\, Sonny maintains a busy schedule in the music industry and is highly regarded in the business. \n\n\n\nThough probably best known for his groundbreaking drumming with Earth\, Wind\, and Fire; Sonny has performed with a virtual “who’s who” in pop and jazz music including Stanley Clarke\, David Sanborn\, Bette Midler\, Al Jarreau\, Paula Abdul\, Jean-Luc Ponty\, and Boz Scaggs. He is also known for innovative visual effects during live performances that include exciting stick-twirling and back-sticking techniques. As a World Renowned Drummer and Grammy Award Winner\, Sonny is considered to be one of the greatest drummers to have come along in a while. His proficiency and style have awarded him the opportunity to record on platinum status albums such as the B52s’ Cosmic Thing and Steely Dan’s Grammy award winning Two against Nature. \n\n\n\nWhile Sonny is in high demand as a touring musician for what he delivers during live performances\, he is equally in demand for studio work. He is a former member of the legendary group Earth\, Wind\, and Fire\, having held down the drum seat for thirteen years. Sonny has additionally played with artist that include Bruce Hornsby\, Jennifer Lopez\, Lee Ritenour\, Bette Midler\, Steely Dan and he is currently touring with Eric Clapton.
URL:https://thevelvetnote.com/event/saturday-july-13th-and-saturday-july-20th-master-drummer-sonny-emory/
LOCATION:The Velvet Note Main Stage\, 4075 Old Milton Parkway\, Alpharetta\, 30005\, United States
ATTACH;FMTTYPE=image/png:https://thevelvetnote.com/wp-content/uploads/2024/02/image.png
END:VEVENT
END:VCALENDAR