BEGIN:VCALENDAR
VERSION:2.0
PRODID:-//The Velvet Note - ECPv6.15.20//NONSGML v1.0//EN
CALSCALE:GREGORIAN
METHOD:PUBLISH
X-WR-CALNAME:The Velvet Note
X-ORIGINAL-URL:https://thevelvetnote.com
X-WR-CALDESC:Events for The Velvet Note
REFRESH-INTERVAL;VALUE=DURATION:PT1H
X-Robots-Tag:noindex
X-PUBLISHED-TTL:PT1H
BEGIN:VTIMEZONE
TZID:America/New_York
BEGIN:DAYLIGHT
TZOFFSETFROM:-0500
TZOFFSETTO:-0400
TZNAME:EDT
DTSTART:20230312T070000
END:DAYLIGHT
BEGIN:STANDARD
TZOFFSETFROM:-0400
TZOFFSETTO:-0500
TZNAME:EST
DTSTART:20231105T060000
END:STANDARD
BEGIN:DAYLIGHT
TZOFFSETFROM:-0500
TZOFFSETTO:-0400
TZNAME:EDT
DTSTART:20240310T070000
END:DAYLIGHT
BEGIN:STANDARD
TZOFFSETFROM:-0400
TZOFFSETTO:-0500
TZNAME:EST
DTSTART:20241103T060000
END:STANDARD
BEGIN:DAYLIGHT
TZOFFSETFROM:-0500
TZOFFSETTO:-0400
TZNAME:EDT
DTSTART:20250309T070000
END:DAYLIGHT
BEGIN:STANDARD
TZOFFSETFROM:-0400
TZOFFSETTO:-0500
TZNAME:EST
DTSTART:20251102T060000
END:STANDARD
END:VTIMEZONE
BEGIN:VEVENT
DTSTART;TZID=America/New_York:20240712T193000
DTEND;TZID=America/New_York:20240712T230000
DTSTAMP:20260422T211042
CREATED:20240708T014535Z
LAST-MODIFIED:20240708T014544Z
UID:30098-1720812600-1720825200@thevelvetnote.com
SUMMARY:Friday\, July 12th:  Guitarist\, Singer and Motown Songwriter Wali Ali
DESCRIPTION:SHOWTIMES:  7:30 and 9:30pm.   The Velvet Note is pleased to welcome Wali Ali for his first performance on our stage! Wali Ali grew up in Nebraska\, but joined Motown at age 17 and recorded\, toured\, and wrote for the top acts. \n\n\n\nWali was lead Guitarist The Temptations\, Eddie Kendricks\, Teena Marie\, Rick James & Patrice Rushen just to name a few. Wali Ali has toured as guitarist with Marvin Gaye\, The Jacksons. Aretha Franklin\, and the Undisputed Truth. During his tenure as musical director of the world famous “Cotton Club”\, Wali was dubbed the “Minister of Music”. \n\n\n\nIn the late 70s he recorded few songs for Jobete Music Co under the direction of Brian Holland & Edward Holland Jr. One of them is entitled “(Oh I) need your loving” and is included on the album “Yesterday\, Today\, Forever” which was released on Jobette Music Co in 1980. \n\n\n\nHe played guitar for Marvin Gaye on the album released in 1978. He sang as a backing vocalist for Norman Connors on the album Invitation in 1979. Also he sang together with Patrice Rushen on the song “Never Gonna Give You Up (Won’t Let You Be)“ included on her Posh album from 1980. \n\n\n\nThe same year Lamont Dozier formed the soul group Zingara. Lamont Dozier found a trio of singers\, James Ingram \, Lady Bianca and Wali Ali. About Wali\, Lamont Dozier explains: “He was better known around the LA session circuit for his guitar playing than his singing. But he is a fantastic singer\, so underrated when you think how feted he is for his guitar work. Zingara recorded one of the best sweet modern soul albums ever on Wheel Records.
URL:https://thevelvetnote.com/event/friday-july-12th-guitarist-singer-and-motown-songwriter-wali-ali-2/
LOCATION:The Velvet Note Main Stage\, 4075 Old Milton Parkway\, Alpharetta\, 30005\, United States
ATTACH;FMTTYPE=image/jpeg:https://thevelvetnote.com/wp-content/uploads/2024/07/Wali-Ali-Souldennis.jpeg
END:VEVENT
END:VCALENDAR