BEGIN:VCALENDAR
VERSION:2.0
PRODID:-//The Velvet Note - ECPv6.15.20//NONSGML v1.0//EN
CALSCALE:GREGORIAN
METHOD:PUBLISH
X-WR-CALNAME:The Velvet Note
X-ORIGINAL-URL:https://thevelvetnote.com
X-WR-CALDESC:Events for The Velvet Note
REFRESH-INTERVAL;VALUE=DURATION:PT1H
X-Robots-Tag:noindex
X-PUBLISHED-TTL:PT1H
BEGIN:VTIMEZONE
TZID:America/New_York
BEGIN:DAYLIGHT
TZOFFSETFROM:-0500
TZOFFSETTO:-0400
TZNAME:EDT
DTSTART:20230312T070000
END:DAYLIGHT
BEGIN:STANDARD
TZOFFSETFROM:-0400
TZOFFSETTO:-0500
TZNAME:EST
DTSTART:20231105T060000
END:STANDARD
BEGIN:DAYLIGHT
TZOFFSETFROM:-0500
TZOFFSETTO:-0400
TZNAME:EDT
DTSTART:20240310T070000
END:DAYLIGHT
BEGIN:STANDARD
TZOFFSETFROM:-0400
TZOFFSETTO:-0500
TZNAME:EST
DTSTART:20241103T060000
END:STANDARD
BEGIN:DAYLIGHT
TZOFFSETFROM:-0500
TZOFFSETTO:-0400
TZNAME:EDT
DTSTART:20250309T070000
END:DAYLIGHT
BEGIN:STANDARD
TZOFFSETFROM:-0400
TZOFFSETTO:-0500
TZNAME:EST
DTSTART:20251102T060000
END:STANDARD
END:VTIMEZONE
BEGIN:VEVENT
DTSTART;TZID=America/New_York:20240616T183000
DTEND;TZID=America/New_York:20240616T220000
DTSTAMP:20260422T222739
CREATED:20240529T031552Z
LAST-MODIFIED:20240529T031635Z
UID:30044-1718562600-1718575200@thevelvetnote.com
SUMMARY:Sunday\, June 16th:  Father's Day with The Incomparable Unknown Lyric
DESCRIPTION:SHOWTIMES:  6:30PM AND 8:30PM.  The melodious hybridization of a world class philharmonic orchestra along with the thumping grooves of Outkast with the kinetic energy of Michael Jackson\, Unknown Lyric is a force to be reckoned with. Jeremiah Turner on acoustic guitar and Kevin Grayson on violin\, their sound mimics nothing you have heard before and can best be described as a classical fusion. Founded in 2009\, Unknown Lyric has been progressive in the promotion of how music and live instrumentation can transcend and transport the listeners to another place. They won the acclaimed Amateur Night at the world renowned Apollo Theater in Harlem\, New York. Along with playing the Saint Lucia Jazz Festival and Tedx. One of their biggest accomplishments was playing for media mogul Oprah Winfrey for the cast luncheon of her HBO movie The Immortal Life of Henrietta Lacks. Get ready for The incomparable Unknown Lyric.!
URL:https://thevelvetnote.com/event/sunday-june-16th-fathers-day-with-the-incomparable-unknown-lyric/
LOCATION:The Velvet Note Main Stage\, 4075 Old Milton Parkway\, Alpharetta\, 30005\, United States
ATTACH;FMTTYPE=image/jpeg:https://thevelvetnote.com/wp-content/uploads/2024/05/Untitled-design-137.jpg
END:VEVENT
END:VCALENDAR