BEGIN:VCALENDAR
VERSION:2.0
PRODID:-//The Velvet Note - ECPv6.15.20//NONSGML v1.0//EN
CALSCALE:GREGORIAN
METHOD:PUBLISH
X-ORIGINAL-URL:https://thevelvetnote.com
X-WR-CALDESC:Events for The Velvet Note
REFRESH-INTERVAL;VALUE=DURATION:PT1H
X-Robots-Tag:noindex
X-PUBLISHED-TTL:PT1H
BEGIN:VTIMEZONE
TZID:America/New_York
BEGIN:DAYLIGHT
TZOFFSETFROM:-0500
TZOFFSETTO:-0400
TZNAME:EDT
DTSTART:20230312T070000
END:DAYLIGHT
BEGIN:STANDARD
TZOFFSETFROM:-0400
TZOFFSETTO:-0500
TZNAME:EST
DTSTART:20231105T060000
END:STANDARD
BEGIN:DAYLIGHT
TZOFFSETFROM:-0500
TZOFFSETTO:-0400
TZNAME:EDT
DTSTART:20240310T070000
END:DAYLIGHT
BEGIN:STANDARD
TZOFFSETFROM:-0400
TZOFFSETTO:-0500
TZNAME:EST
DTSTART:20241103T060000
END:STANDARD
BEGIN:DAYLIGHT
TZOFFSETFROM:-0500
TZOFFSETTO:-0400
TZNAME:EDT
DTSTART:20250309T070000
END:DAYLIGHT
BEGIN:STANDARD
TZOFFSETFROM:-0400
TZOFFSETTO:-0500
TZNAME:EST
DTSTART:20251102T060000
END:STANDARD
END:VTIMEZONE
BEGIN:VEVENT
DTSTART;TZID=America/New_York:20240602T190000
DTEND;TZID=America/New_York:20240602T210000
DTSTAMP:20260422T222826
CREATED:20240528T055858Z
LAST-MODIFIED:20240528T055901Z
UID:30035-1717354800-1717362000@thevelvetnote.com
SUMMARY:Sunday\, June 2nd:  The Lives and Music of Billy Eckstine and Jimmy Scott
DESCRIPTION:ONE SHOW ONLY @ 7:00pm. Legends of Jazz Series presents a celebration of the music of Billy Eckstine and Jimmy Scott. \n\n\n\nJustin Varnes and his quartet will guide guests–in engaging\, narrative form– through the life of these jazz legends\, as well as the impact that he had on the legacy on the genre. It’s like taking in a concert and taking a jazz history class at the same time. \n\n\n\nOh\, and they’ll also play their behinds off!
URL:https://thevelvetnote.com/event/sunday-june-2nd-the-lives-and-music-of-billy-eckstine-and-jimmy-scott/
LOCATION:The Velvet Note Main Stage\, 4075 Old Milton Parkway\, Alpharetta\, 30005\, United States
ATTACH;FMTTYPE=image/png:https://thevelvetnote.com/wp-content/uploads/2024/05/The-Lives-and-Music-of-Billy-Eckstine-Jimmy-Scott.png
END:VEVENT
END:VCALENDAR