BEGIN:VCALENDAR
VERSION:2.0
PRODID:-//The Velvet Note - ECPv6.15.20//NONSGML v1.0//EN
CALSCALE:GREGORIAN
METHOD:PUBLISH
X-WR-CALNAME:The Velvet Note
X-ORIGINAL-URL:https://thevelvetnote.com
X-WR-CALDESC:Events for The Velvet Note
REFRESH-INTERVAL;VALUE=DURATION:PT1H
X-Robots-Tag:noindex
X-PUBLISHED-TTL:PT1H
BEGIN:VTIMEZONE
TZID:America/New_York
BEGIN:DAYLIGHT
TZOFFSETFROM:-0500
TZOFFSETTO:-0400
TZNAME:EDT
DTSTART:20230312T070000
END:DAYLIGHT
BEGIN:STANDARD
TZOFFSETFROM:-0400
TZOFFSETTO:-0500
TZNAME:EST
DTSTART:20231105T060000
END:STANDARD
BEGIN:DAYLIGHT
TZOFFSETFROM:-0500
TZOFFSETTO:-0400
TZNAME:EDT
DTSTART:20240310T070000
END:DAYLIGHT
BEGIN:STANDARD
TZOFFSETFROM:-0400
TZOFFSETTO:-0500
TZNAME:EST
DTSTART:20241103T060000
END:STANDARD
BEGIN:DAYLIGHT
TZOFFSETFROM:-0500
TZOFFSETTO:-0400
TZNAME:EDT
DTSTART:20250309T070000
END:DAYLIGHT
BEGIN:STANDARD
TZOFFSETFROM:-0400
TZOFFSETTO:-0500
TZNAME:EST
DTSTART:20251102T060000
END:STANDARD
END:VTIMEZONE
BEGIN:VEVENT
DTSTART;TZID=America/New_York:20240601T193000
DTEND;TZID=America/New_York:20240601T230000
DTSTAMP:20260422T222740
CREATED:20240514T193304Z
LAST-MODIFIED:20240514T193314Z
UID:30001-1717270200-1717282800@thevelvetnote.com
SUMMARY:Saturday\, June 1st:  Jazz Torch Singer Kayte Burgess
DESCRIPTION:SHOWTIMES:  7:30PM AND 9:30PM.   Kayte Burgess began her musical Journey in her Hometown of Toronto\, Canada.  At the age of 12 she began studying Piano and Opera at the Royal Conservatory of Music.  It wasn’t long before she fell in love with Jazz. She graduated from Humber College in Toronto with a BA in Jazz Theory\,Arranging and Performing. \n\n\n\nOnce she graduated College\, Kayte spent the next 3 years touring with various bands\, as a vocalist and keyboard player playing every genre from Jazz to Pop. She travelled to Dubai\, South Africa\, Hong Kong\, England And all across North America\, After releasing two independent albums in Canada she discovered she had developed a substantial career as a solo artist\, receiving a lot of radio play and publicity for her most successful album “Checked Baggage”. Her latest album called “For The Love “ displays all of the different genres of music that she loves. \n\n\n\nKayte relocated to Atlanta\, Georgia in 2007 where she became a founding member of one of the top party bands “Simply Irresistible ” a very successful band that travels all across the world performing. Kayte can also be seen performing in various venues in Atlanta including Center Stage\, Centennial Park\, Blue Martini\, St James Live\, and The Perfect Note \n\n\n\nKayte has performed with the likes of Al Green\, Lionel Ritchie\, Mary J Blige\, Erykah Badu\, Jill Scott\, and Tyler Perry \n\n\n\nShe has been seen in Tyler Perry’s “I Can do Bad all by myself “ singing behind Mary J Bilge\, and was also seen in the First Season of Braxton Family Values with Toni Braxton. \n\n\n\nWith a long standing professional performance career\, and a deep love for music\, Kayte enjoys each and every moment she gets to touch a stage.
URL:https://thevelvetnote.com/event/saturday-june-1st-jazz-torch-singer-kayte-burgess/
LOCATION:The Velvet Note Main Stage\, 4075 Old Milton Parkway\, Alpharetta\, 30005\, United States
ATTACH;FMTTYPE=image/jpeg:https://thevelvetnote.com/wp-content/uploads/2024/05/Untitled-design-135.jpg
END:VEVENT
END:VCALENDAR