BEGIN:VCALENDAR
VERSION:2.0
PRODID:-//The Velvet Note - ECPv6.15.20//NONSGML v1.0//EN
CALSCALE:GREGORIAN
METHOD:PUBLISH
X-ORIGINAL-URL:https://thevelvetnote.com
X-WR-CALDESC:Events for The Velvet Note
REFRESH-INTERVAL;VALUE=DURATION:PT1H
X-Robots-Tag:noindex
X-PUBLISHED-TTL:PT1H
BEGIN:VTIMEZONE
TZID:America/New_York
BEGIN:DAYLIGHT
TZOFFSETFROM:-0500
TZOFFSETTO:-0400
TZNAME:EDT
DTSTART:20230312T070000
END:DAYLIGHT
BEGIN:STANDARD
TZOFFSETFROM:-0400
TZOFFSETTO:-0500
TZNAME:EST
DTSTART:20231105T060000
END:STANDARD
BEGIN:DAYLIGHT
TZOFFSETFROM:-0500
TZOFFSETTO:-0400
TZNAME:EDT
DTSTART:20240310T070000
END:DAYLIGHT
BEGIN:STANDARD
TZOFFSETFROM:-0400
TZOFFSETTO:-0500
TZNAME:EST
DTSTART:20241103T060000
END:STANDARD
BEGIN:DAYLIGHT
TZOFFSETFROM:-0500
TZOFFSETTO:-0400
TZNAME:EDT
DTSTART:20250309T070000
END:DAYLIGHT
BEGIN:STANDARD
TZOFFSETFROM:-0400
TZOFFSETTO:-0500
TZNAME:EST
DTSTART:20251102T060000
END:STANDARD
END:VTIMEZONE
BEGIN:VEVENT
DTSTART;TZID=America/New_York:20240518T193000
DTEND;TZID=America/New_York:20240518T230000
DTSTAMP:20260423T000344
CREATED:20240513T213024Z
LAST-MODIFIED:20240513T213025Z
UID:29997-1716060600-1716073200@thevelvetnote.com
SUMMARY:Saturday\, May 18th:  The The Harper Collective Featuring Atlanta Legends Danny and Terry Harper!
DESCRIPTION:SHOWTIMES:  7:30PM AND 9:30PM.  Come out and see the greatest family jazz dynasty\, second only to the Marsalis family!  Grammy-nominated trumpeter Terence Harper\, of the legendary Harper family leads an outfit of all-star artists and family members from Atlanta The evening features internationally acclaimed musicians from the Harper family: Trumpeters Terence and Danny Harper\, Pianist and Singe Terry Harper bassist Dishan Harper\, Kenny Banks\, Jr. and GRAMMY-winning Drummer Terreon Gully! Don’t miss a thoughtful\, joyous and boundlessly swinging family affair!
URL:https://thevelvetnote.com/event/saturday-may-18th-the-the-harper-collective-featuring-atlanta-legends-danny-and-terry-harper/
LOCATION:The Velvet Note Main Stage\, 4075 Old Milton Parkway\, Alpharetta\, 30005\, United States
ATTACH;FMTTYPE=image/jpeg:https://thevelvetnote.com/wp-content/uploads/2024/05/IMG_5417.jpeg
END:VEVENT
END:VCALENDAR