BEGIN:VCALENDAR
VERSION:2.0
PRODID:-//The Velvet Note - ECPv6.15.20//NONSGML v1.0//EN
CALSCALE:GREGORIAN
METHOD:PUBLISH
X-WR-CALNAME:The Velvet Note
X-ORIGINAL-URL:https://thevelvetnote.com
X-WR-CALDESC:Events for The Velvet Note
REFRESH-INTERVAL;VALUE=DURATION:PT1H
X-Robots-Tag:noindex
X-PUBLISHED-TTL:PT1H
BEGIN:VTIMEZONE
TZID:America/New_York
BEGIN:DAYLIGHT
TZOFFSETFROM:-0500
TZOFFSETTO:-0400
TZNAME:EDT
DTSTART:20230312T070000
END:DAYLIGHT
BEGIN:STANDARD
TZOFFSETFROM:-0400
TZOFFSETTO:-0500
TZNAME:EST
DTSTART:20231105T060000
END:STANDARD
BEGIN:DAYLIGHT
TZOFFSETFROM:-0500
TZOFFSETTO:-0400
TZNAME:EDT
DTSTART:20240310T070000
END:DAYLIGHT
BEGIN:STANDARD
TZOFFSETFROM:-0400
TZOFFSETTO:-0500
TZNAME:EST
DTSTART:20241103T060000
END:STANDARD
BEGIN:DAYLIGHT
TZOFFSETFROM:-0500
TZOFFSETTO:-0400
TZNAME:EDT
DTSTART:20250309T070000
END:DAYLIGHT
BEGIN:STANDARD
TZOFFSETFROM:-0400
TZOFFSETTO:-0500
TZNAME:EST
DTSTART:20251102T060000
END:STANDARD
END:VTIMEZONE
BEGIN:VEVENT
DTSTART;TZID=America/New_York:20240510T193000
DTEND;TZID=America/New_York:20240510T230000
DTSTAMP:20260423T000311
CREATED:20240506T005427Z
LAST-MODIFIED:20240510T042253Z
UID:29957-1715369400-1715382000@thevelvetnote.com
SUMMARY:Friday\, May 10th:  Contemporary Jazz Saxophonist Nate Myers   *** SOLD OUT!!!   SOLD OUT!!   SOLD OUT!!  ***
DESCRIPTION:SHOWTIMES:   7:30PM AND 9:30PM.   “Many musicians blessed enough to make a living in the service of other artists will stay the course\, play it safe and build an impressive resume while letting their true artist voice lay dormant. It’s the great fortune of R&B and contemporary urban jazz fans that Nate Myers made the bold decision to get in touch with that inner voice and begin sharing his deeper artistry with the world. With the infectious\, supremely grooving and sensually soulful and lightly exotic tunes on Soul Essentials\, he fulfills his mission to spread love through music without compromising or limiting himself to one specific genre. There’s neo soul\, contemporary and traditional R&B\, smooth urban jazz and even some straight ahead licks. Myers is living up to the title of his debut album\, quickly establishing himself as an essential contemporary jazz artist.” – Jonathan Widran     
URL:https://thevelvetnote.com/event/friday-may-10th-contemporary-jazz-saxophonist-nate-myers/
LOCATION:The Velvet Note Main Stage\, 4075 Old Milton Parkway\, Alpharetta\, 30005\, United States
ATTACH;FMTTYPE=image/jpeg:https://thevelvetnote.com/wp-content/uploads/2024/05/images.jpeg
END:VEVENT
END:VCALENDAR