BEGIN:VCALENDAR
VERSION:2.0
PRODID:-//The Velvet Note - ECPv6.15.20//NONSGML v1.0//EN
CALSCALE:GREGORIAN
METHOD:PUBLISH
X-WR-CALNAME:The Velvet Note
X-ORIGINAL-URL:https://thevelvetnote.com
X-WR-CALDESC:Events for The Velvet Note
REFRESH-INTERVAL;VALUE=DURATION:PT1H
X-Robots-Tag:noindex
X-PUBLISHED-TTL:PT1H
BEGIN:VTIMEZONE
TZID:America/New_York
BEGIN:DAYLIGHT
TZOFFSETFROM:-0500
TZOFFSETTO:-0400
TZNAME:EDT
DTSTART:20230312T070000
END:DAYLIGHT
BEGIN:STANDARD
TZOFFSETFROM:-0400
TZOFFSETTO:-0500
TZNAME:EST
DTSTART:20231105T060000
END:STANDARD
BEGIN:DAYLIGHT
TZOFFSETFROM:-0500
TZOFFSETTO:-0400
TZNAME:EDT
DTSTART:20240310T070000
END:DAYLIGHT
BEGIN:STANDARD
TZOFFSETFROM:-0400
TZOFFSETTO:-0500
TZNAME:EST
DTSTART:20241103T060000
END:STANDARD
BEGIN:DAYLIGHT
TZOFFSETFROM:-0500
TZOFFSETTO:-0400
TZNAME:EDT
DTSTART:20250309T070000
END:DAYLIGHT
BEGIN:STANDARD
TZOFFSETFROM:-0400
TZOFFSETTO:-0500
TZNAME:EST
DTSTART:20251102T060000
END:STANDARD
END:VTIMEZONE
BEGIN:VEVENT
DTSTART;TZID=America/New_York:20240427T193000
DTEND;TZID=America/New_York:20240427T230000
DTSTAMP:20260423T011429
CREATED:20240319T181356Z
LAST-MODIFIED:20240427T132806Z
UID:29852-1714246200-1714258800@thevelvetnote.com
SUMMARY:Saturday\, April 27th:  Tony Exum\, Jr. *** SOLD OUT!!   SOLD OUT!!  SOLD OUT!! **
DESCRIPTION:SHOWTIME:  7:30PM AND 9:30PM.  Tony Exum Jr. is a talented contemporary jazz\, R&B\, and funk saxophonist\, songwriter\, and performer with a smooth and soulful sound. He gained international recognition in 2019 with the release of his single “My Name’s Tony\,” which charted on the Smooth Jazz Network top 100 chart for 12 weeks. Tony has performed at various festivals and venues across the U.S.\, including the San Diego Smooth Jazz Festival\, Winter Park Jazz Festival\, Boscov’s Berks Jazz Festival\, Stockton Jazz Festival and more.  \n\n\n\nIn addition to his successful music career\, Tony is also a radio host and a global brand ambassador for Kastell Vodka. He refers to his music as “Rhythm N Smooth\,” a tag that highlights his flawless execution of the smooth saxophone with R&B influenced grooves and melodies. Tony’s catalog includes two critically acclaimed albums\, “Finally” and “The One\,” and 7 singles\, including two Smooth Jazz Network top 100 charting singles “Brighter Days” and “Get At You.” \n\n\n\nIn 2022\, Tony signed his first recording contract with Sony/The Orchard/BSE Recordings and released his 2022 single “Everything\,” which reached #19 on the Urban Influencer R&B Soul Chart. His latest single “Hold My Hand” peaked at #8 on the Urban Influencer Radio Airplay Experts Smooth Jazz chart. He is currently booking for his 2024 tour with performances scheduled in North Carolina\, South Carolina\, Houston\, Denver and Dallas to name a few!
URL:https://thevelvetnote.com/event/saturday-april-27th-tony-exum/
LOCATION:The Velvet Note Main Stage\, 4075 Old Milton Parkway\, Alpharetta\, 30005\, United States
ATTACH;FMTTYPE=image/jpeg:https://thevelvetnote.com/wp-content/uploads/2024/03/Tony-Exum-Jr.jpg
END:VEVENT
END:VCALENDAR