BEGIN:VCALENDAR
VERSION:2.0
PRODID:-//The Velvet Note - ECPv6.15.20//NONSGML v1.0//EN
CALSCALE:GREGORIAN
METHOD:PUBLISH
X-WR-CALNAME:The Velvet Note
X-ORIGINAL-URL:https://thevelvetnote.com
X-WR-CALDESC:Events for The Velvet Note
REFRESH-INTERVAL;VALUE=DURATION:PT1H
X-Robots-Tag:noindex
X-PUBLISHED-TTL:PT1H
BEGIN:VTIMEZONE
TZID:America/New_York
BEGIN:DAYLIGHT
TZOFFSETFROM:-0500
TZOFFSETTO:-0400
TZNAME:EDT
DTSTART:20230312T070000
END:DAYLIGHT
BEGIN:STANDARD
TZOFFSETFROM:-0400
TZOFFSETTO:-0500
TZNAME:EST
DTSTART:20231105T060000
END:STANDARD
BEGIN:DAYLIGHT
TZOFFSETFROM:-0500
TZOFFSETTO:-0400
TZNAME:EDT
DTSTART:20240310T070000
END:DAYLIGHT
BEGIN:STANDARD
TZOFFSETFROM:-0400
TZOFFSETTO:-0500
TZNAME:EST
DTSTART:20241103T060000
END:STANDARD
BEGIN:DAYLIGHT
TZOFFSETFROM:-0500
TZOFFSETTO:-0400
TZNAME:EDT
DTSTART:20250309T070000
END:DAYLIGHT
BEGIN:STANDARD
TZOFFSETFROM:-0400
TZOFFSETTO:-0500
TZNAME:EST
DTSTART:20251102T060000
END:STANDARD
END:VTIMEZONE
BEGIN:VEVENT
DTSTART;TZID=America/New_York:20240426T193000
DTEND;TZID=America/New_York:20240426T230000
DTSTAMP:20260423T011430
CREATED:20240319T174029Z
LAST-MODIFIED:20240319T174051Z
UID:29846-1714159800-1714172400@thevelvetnote.com
SUMMARY:Friday\, April 26th:  Castella
DESCRIPTION:SHOWTIMES: 7:30 and 9:30. Castella hit the music scene in April 2020 with the release of her original tune No Ordinary Love. Hailing from Long Beach\, California\, Castella has sung her entire life.  She was inspired to tap into the creative side of her brain by mentor and writing partner\, Darryl Swann. Unknowing to Castella\, this little project would turn into the fulfillment of unrealized dreams of sharing her gifts with the world. Castella released her first EP –Thinking About You\, produced by Corey Stampley\, in late 2019. She released her first single from that EP “No Ordinary Love”in April 2020. This tune reached #24 on the Smooth Jazz Charts and garnered her a“Breakout Artist of 2020”Nomination by Smooth Jazz Network\, an original iHeartRadio station. She then decided to make another record and release it on her birthday as a gift to herself. During the pandemic\, she met producer Jeff Canady. Along with Jeff\, they pushed out two amazing records\,“Let Me Love You” and “Sleigh Ride”!  “Let Me Love You” reached #33 on the smooth jazz charts and rose to #5 on the Urban charts and rose to #1 on the Black Planet Radio chart in Italy. Sleigh Riderose to #6 on the smooth jazz Holiday Chart. Castella’s work on “Let Me Love You” garnered her nominations for the“President’s Award”\,“New Comer of the Year”and“Best Female Artist of 2020”as well as being named “Artist of the Year” by the Central Standard Time Show on stlsmoothjazz.com. and she has the hardware to show it! Ever true to her work and trusting her heart\, Castella decided to reach back into her pocket and release her tune Mojito from her debut EP. A very special record to Castella and her team where her mentor\, multi-platinum\, Grammy Award winning producer Darryl Swann contributed with writing on the tune as well as mixing and mastering the tune\, in fact all of her tunes. Mojito did well on the charts\, rising to #2 on the Urban Influencer R&B/Soul Chart and #49 on the Smooth Jazz Network Top 100 Chart!! Castella continues to work on more music to share with her fans.  Castella released her chart topping tune “So Glad I Met You” featuring trumpeter and friend\, Willie Bradley.  This song did well on both Smooth Jazz Charts as well as hitting #2 on the UK Soul Charts and #1 in Canada with TeeRex Radio!  Castella had the wonderful opportunity to work with French producer Tom Glide to produce a remix of “So Glad I Met You” which topped the UK Soul Breakers Chart at #1 as well as making several charts in the UK and Canada Top 10!
URL:https://thevelvetnote.com/event/friday-april-26th-castella/
LOCATION:The Velvet Note Main Stage\, 4075 Old Milton Parkway\, Alpharetta\, 30005\, United States
ATTACH;FMTTYPE=image/jpeg:https://thevelvetnote.com/wp-content/uploads/2024/03/Castella.jpeg
END:VEVENT
END:VCALENDAR