BEGIN:VCALENDAR
VERSION:2.0
PRODID:-//The Velvet Note - ECPv6.15.20//NONSGML v1.0//EN
CALSCALE:GREGORIAN
METHOD:PUBLISH
X-WR-CALNAME:The Velvet Note
X-ORIGINAL-URL:https://thevelvetnote.com
X-WR-CALDESC:Events for The Velvet Note
REFRESH-INTERVAL;VALUE=DURATION:PT1H
X-Robots-Tag:noindex
X-PUBLISHED-TTL:PT1H
BEGIN:VTIMEZONE
TZID:America/New_York
BEGIN:DAYLIGHT
TZOFFSETFROM:-0500
TZOFFSETTO:-0400
TZNAME:EDT
DTSTART:20230312T070000
END:DAYLIGHT
BEGIN:STANDARD
TZOFFSETFROM:-0400
TZOFFSETTO:-0500
TZNAME:EST
DTSTART:20231105T060000
END:STANDARD
BEGIN:DAYLIGHT
TZOFFSETFROM:-0500
TZOFFSETTO:-0400
TZNAME:EDT
DTSTART:20240310T070000
END:DAYLIGHT
BEGIN:STANDARD
TZOFFSETFROM:-0400
TZOFFSETTO:-0500
TZNAME:EST
DTSTART:20241103T060000
END:STANDARD
BEGIN:DAYLIGHT
TZOFFSETFROM:-0500
TZOFFSETTO:-0400
TZNAME:EDT
DTSTART:20250309T070000
END:DAYLIGHT
BEGIN:STANDARD
TZOFFSETFROM:-0400
TZOFFSETTO:-0500
TZNAME:EST
DTSTART:20251102T060000
END:STANDARD
END:VTIMEZONE
BEGIN:VEVENT
DTSTART;TZID=America/New_York:20240414T190000
DTEND;TZID=America/New_York:20240414T223000
DTSTAMP:20260423T011414
CREATED:20240328T204935Z
LAST-MODIFIED:20240408T035116Z
UID:29898-1713121200-1713133800@thevelvetnote.com
SUMMARY:Sunday\, April 14th:  The Jazz Freedom Trio
DESCRIPTION:NOW TWO SHOWS–   7:00pm AND 9:00pm!!     Three jazz powerhouses get together for a Sunday evening of incredible jazz improvisation that will knock your socks off!. Each one of them shines so bright\, you’ll wonder what took them so long to get on the same stage. Kevin Bales (piano)\, Delbert Felix (upright bass) and Willie Jones\, III (drums). Join us!
URL:https://thevelvetnote.com/event/sunday-april-14th-the-jazz-freedom-trio-2/
LOCATION:The Velvet Note Main Stage\, 4075 Old Milton Parkway\, Alpharetta\, 30005\, United States
ATTACH;FMTTYPE=image/jpeg:https://thevelvetnote.com/wp-content/uploads/2024/03/Copy-of-Sunday-April-14th-1.jpg
END:VEVENT
END:VCALENDAR