BEGIN:VCALENDAR
VERSION:2.0
PRODID:-//The Velvet Note - ECPv6.15.20//NONSGML v1.0//EN
CALSCALE:GREGORIAN
METHOD:PUBLISH
X-WR-CALNAME:The Velvet Note
X-ORIGINAL-URL:https://thevelvetnote.com
X-WR-CALDESC:Events for The Velvet Note
REFRESH-INTERVAL;VALUE=DURATION:PT1H
X-Robots-Tag:noindex
X-PUBLISHED-TTL:PT1H
BEGIN:VTIMEZONE
TZID:America/New_York
BEGIN:DAYLIGHT
TZOFFSETFROM:-0500
TZOFFSETTO:-0400
TZNAME:EDT
DTSTART:20230312T070000
END:DAYLIGHT
BEGIN:STANDARD
TZOFFSETFROM:-0400
TZOFFSETTO:-0500
TZNAME:EST
DTSTART:20231105T060000
END:STANDARD
BEGIN:DAYLIGHT
TZOFFSETFROM:-0500
TZOFFSETTO:-0400
TZNAME:EDT
DTSTART:20240310T070000
END:DAYLIGHT
BEGIN:STANDARD
TZOFFSETFROM:-0400
TZOFFSETTO:-0500
TZNAME:EST
DTSTART:20241103T060000
END:STANDARD
BEGIN:DAYLIGHT
TZOFFSETFROM:-0500
TZOFFSETTO:-0400
TZNAME:EDT
DTSTART:20250309T070000
END:DAYLIGHT
BEGIN:STANDARD
TZOFFSETFROM:-0400
TZOFFSETTO:-0500
TZNAME:EST
DTSTART:20251102T060000
END:STANDARD
END:VTIMEZONE
BEGIN:VEVENT
DTSTART;TZID=America/New_York:20240407T190000
DTEND;TZID=America/New_York:20240407T210000
DTSTAMP:20260423T011415
CREATED:20240325T045903Z
LAST-MODIFIED:20240401T223351Z
UID:29884-1712516400-1712523600@thevelvetnote.com
SUMMARY:Sunday\, April 7th:  Miles Davis' Milestones   ***SOLD OUT!!  SOLD OUT!!   SOLD OUT!!  ***
DESCRIPTION:ONE SHOW ONLY @ 7pm. This is the first installment in our 14th season of Legends of Jazz.  Justin Varnes and his Jazz Legacy Project will guide guests–in engaging\, narrative form– through the life of this legendary trumpeter\, and the live performance of his studio album released in 1958 with Miles’ “first great quintet”. It’s like taking in a concert and taking a jazz history class at the same time.  \n\n\n\nOh\, and they’ll also play their behinds off!    \n\n\n\n**** SOLD OUT!!   WAITLIST AVAILABLE.   ***
URL:https://thevelvetnote.com/event/sunday-april-7th-miles-davis-milestones/
LOCATION:The Velvet Note Main Stage\, 4075 Old Milton Parkway\, Alpharetta\, 30005\, United States
ATTACH;FMTTYPE=image/jpeg:https://thevelvetnote.com/wp-content/uploads/2024/03/milestones-1024x1024-216245461.jpeg
END:VEVENT
END:VCALENDAR