BEGIN:VCALENDAR
VERSION:2.0
PRODID:-//The Velvet Note - ECPv6.15.20//NONSGML v1.0//EN
CALSCALE:GREGORIAN
METHOD:PUBLISH
X-WR-CALNAME:The Velvet Note
X-ORIGINAL-URL:https://thevelvetnote.com
X-WR-CALDESC:Events for The Velvet Note
REFRESH-INTERVAL;VALUE=DURATION:PT1H
X-Robots-Tag:noindex
X-PUBLISHED-TTL:PT1H
BEGIN:VTIMEZONE
TZID:America/New_York
BEGIN:DAYLIGHT
TZOFFSETFROM:-0500
TZOFFSETTO:-0400
TZNAME:EDT
DTSTART:20230312T070000
END:DAYLIGHT
BEGIN:STANDARD
TZOFFSETFROM:-0400
TZOFFSETTO:-0500
TZNAME:EST
DTSTART:20231105T060000
END:STANDARD
BEGIN:DAYLIGHT
TZOFFSETFROM:-0500
TZOFFSETTO:-0400
TZNAME:EDT
DTSTART:20240310T070000
END:DAYLIGHT
BEGIN:STANDARD
TZOFFSETFROM:-0400
TZOFFSETTO:-0500
TZNAME:EST
DTSTART:20241103T060000
END:STANDARD
BEGIN:DAYLIGHT
TZOFFSETFROM:-0500
TZOFFSETTO:-0400
TZNAME:EDT
DTSTART:20250309T070000
END:DAYLIGHT
BEGIN:STANDARD
TZOFFSETFROM:-0400
TZOFFSETTO:-0500
TZNAME:EST
DTSTART:20251102T060000
END:STANDARD
END:VTIMEZONE
BEGIN:VEVENT
DTSTART;TZID=America/New_York:20240324T190000
DTEND;TZID=America/New_York:20240324T203000
DTSTAMP:20260423T023804
CREATED:20240312T034107Z
LAST-MODIFIED:20240312T034108Z
UID:29822-1711306800-1711312200@thevelvetnote.com
SUMMARY:Sunday\, March 24th:  Nathanael Smith's CD Release
DESCRIPTION:ONE SHOW ONLY:  7:00PM.  Nathanael Smith is someone we have watched grow up in musical excellence.   He was born in Atlanta\, Georgia and grew up in Stone Mountain\, Georgia\, and graduated high school from DeKalb School of the Arts where he participated in the school’s Jazz Band. He attended Florida State University\, performed with their jazz combos and the top big band\, and received a Bachelor of Music in Jazz Performance. He has played at venues such as B-Sharps Jazz Café\, the Amelia Island Jazz Festival\, the Donald L. Tucker Civic Center\, Ruby Diamond Concert Hall\, and the Fox Theatre. Nathanael is now based in Atlanta and is pursuing a master’s degree in jazz studies from Georgia State University while performing with their Honor’s Combo\, GSU Jazz Band\, and performing professionally as well. \n\n\n\nJoin us for his debut album — Missing Piece!
URL:https://thevelvetnote.com/event/sunday-march-24th-nathanael-smiths-cd-release/
LOCATION:The Velvet Note Main Stage\, 4075 Old Milton Parkway\, Alpharetta\, 30005\, United States
ATTACH;FMTTYPE=image/jpeg:https://thevelvetnote.com/wp-content/uploads/2024/03/Untitled-design-134.jpg
END:VEVENT
END:VCALENDAR