BEGIN:VCALENDAR
VERSION:2.0
PRODID:-//The Velvet Note - ECPv6.15.20//NONSGML v1.0//EN
CALSCALE:GREGORIAN
METHOD:PUBLISH
X-WR-CALNAME:The Velvet Note
X-ORIGINAL-URL:https://thevelvetnote.com
X-WR-CALDESC:Events for The Velvet Note
REFRESH-INTERVAL;VALUE=DURATION:PT1H
X-Robots-Tag:noindex
X-PUBLISHED-TTL:PT1H
BEGIN:VTIMEZONE
TZID:America/New_York
BEGIN:DAYLIGHT
TZOFFSETFROM:-0500
TZOFFSETTO:-0400
TZNAME:EDT
DTSTART:20230312T070000
END:DAYLIGHT
BEGIN:STANDARD
TZOFFSETFROM:-0400
TZOFFSETTO:-0500
TZNAME:EST
DTSTART:20231105T060000
END:STANDARD
BEGIN:DAYLIGHT
TZOFFSETFROM:-0500
TZOFFSETTO:-0400
TZNAME:EDT
DTSTART:20240310T070000
END:DAYLIGHT
BEGIN:STANDARD
TZOFFSETFROM:-0400
TZOFFSETTO:-0500
TZNAME:EST
DTSTART:20241103T060000
END:STANDARD
BEGIN:DAYLIGHT
TZOFFSETFROM:-0500
TZOFFSETTO:-0400
TZNAME:EDT
DTSTART:20250309T070000
END:DAYLIGHT
BEGIN:STANDARD
TZOFFSETFROM:-0400
TZOFFSETTO:-0500
TZNAME:EST
DTSTART:20251102T060000
END:STANDARD
END:VTIMEZONE
BEGIN:VEVENT
DTSTART;TZID=America/New_York:20240322T193000
DTEND;TZID=America/New_York:20240322T230000
DTSTAMP:20260423T023819
CREATED:20240311T222055Z
LAST-MODIFIED:20240311T222056Z
UID:29805-1711135800-1711148400@thevelvetnote.com
SUMMARY:Friday\, March 22nd:  Smooth Jazz Saxophonist Billy Ray Sheppard
DESCRIPTION:SHOWTIMES:   7:30PM & 9:30PM.   Billy Ray Sheppard is a jazz saxophonist who has lived in San Antonio Texas for many years. He is a proud graduate of Fox Tech High School and St. Mary’s University. Soon after academic life\, he pursued many different avenues in the field of music. He has been performing since the 80’s\, and his musical roots run deep; having his earliest musical experiences in Blues\, R & B\, Reggae\, Latin\, Tejano and Country bands. It’s his love for music that has kept him grounded and his love for jazz that keeps him performing.  \n\n\n\nBillyRay is a first-call smooth jazz performer\, having shared his talents on stage with notable genre stars such as Steve Oliver\, Peter White\, Adam Hawley\, Will Donato\, and Darryl Williams. He’s also performed with Roy Hargrove\, Johnny Bush\, Julio Iglesias\, The Dirty Dozen Brass Band and many more. With his saxophone’s rich\, warm\, soulful tone\, he has made a name for himself on both the local and national music scene. \n\n\n\nIn November 2017\, BillyRay released his debut CD entitled “Silk”\, co-written and produced by guitarist Steve Oliver. The album contains the single “Heels and Pearls” which has reached the TOP 20 airplay chart on smooth jazz radio. \n\n\n\nFor the past five years BillyRay has produced a very popular monthly “Second Sunday” Smooth Jazz series in San Antonio. These concerts\, performed by BillyRay and his band\, serve charity organizations in and around the community. To date\, these charity events have successfully gifted over $40\,000 in donations to deserving non-profit organizations throughout the community. \n\n\n\nToday BillyRay is looking forward to providing many more great things for his fans including releasing a new album to be named! \n\n\n\nThanks for joining him on this journey!
URL:https://thevelvetnote.com/event/friday-march-22nd-smooth-jazz-saxophonist-billy-ray-sheppard/
LOCATION:The Velvet Note Main Stage\, 4075 Old Milton Parkway\, Alpharetta\, 30005\, United States
ATTACH;FMTTYPE=image/jpeg:https://thevelvetnote.com/wp-content/uploads/2024/03/Billy-Ray-Sheppard.jpeg
END:VEVENT
END:VCALENDAR