BEGIN:VCALENDAR
VERSION:2.0
PRODID:-//The Velvet Note - ECPv6.15.20//NONSGML v1.0//EN
CALSCALE:GREGORIAN
METHOD:PUBLISH
X-ORIGINAL-URL:https://thevelvetnote.com
X-WR-CALDESC:Events for The Velvet Note
REFRESH-INTERVAL;VALUE=DURATION:PT1H
X-Robots-Tag:noindex
X-PUBLISHED-TTL:PT1H
BEGIN:VTIMEZONE
TZID:America/New_York
BEGIN:DAYLIGHT
TZOFFSETFROM:-0500
TZOFFSETTO:-0400
TZNAME:EDT
DTSTART:20230312T070000
END:DAYLIGHT
BEGIN:STANDARD
TZOFFSETFROM:-0400
TZOFFSETTO:-0500
TZNAME:EST
DTSTART:20231105T060000
END:STANDARD
BEGIN:DAYLIGHT
TZOFFSETFROM:-0500
TZOFFSETTO:-0400
TZNAME:EDT
DTSTART:20240310T070000
END:DAYLIGHT
BEGIN:STANDARD
TZOFFSETFROM:-0400
TZOFFSETTO:-0500
TZNAME:EST
DTSTART:20241103T060000
END:STANDARD
BEGIN:DAYLIGHT
TZOFFSETFROM:-0500
TZOFFSETTO:-0400
TZNAME:EDT
DTSTART:20250309T070000
END:DAYLIGHT
BEGIN:STANDARD
TZOFFSETFROM:-0400
TZOFFSETTO:-0500
TZNAME:EST
DTSTART:20251102T060000
END:STANDARD
END:VTIMEZONE
BEGIN:VEVENT
DTSTART;TZID=America/New_York:20240316T193000
DTEND;TZID=America/New_York:20240316T210000
DTSTAMP:20260423T023503
CREATED:20240310T200323Z
LAST-MODIFIED:20240310T200336Z
UID:29797-1710617400-1710622800@thevelvetnote.com
SUMMARY:Saturday\, March 16th:  A Celebration of Aretha Franklin by AB & Groove Therapy
DESCRIPTION:SHOWTIMES:  7:30PM AND 9:30PM.   AB & Groove Therapy is a band that blends talent\, professionalism\, creativity\, and a genuine love of music to bring the best musical experience possible.  The brainchild of Andre Bernard\, the group is comprised of friends and fellow musicians who have known one another for over a decade.  The thrill of playing together and their passion radiates from the stage every time they perform and with the ambition and drive of their frontman Andre Bernard\, they will definitely be a group to watch for years to come!
URL:https://thevelvetnote.com/event/saturday-march-16th-a-celebration-of-aretha-franklin-by-ab-groove-therapy/
LOCATION:The Velvet Note Main Stage\, 4075 Old Milton Parkway\, Alpharetta\, 30005\, United States
ATTACH;FMTTYPE=image/jpeg:https://thevelvetnote.com/wp-content/uploads/2024/03/Untitled-design-133.jpg
END:VEVENT
END:VCALENDAR