BEGIN:VCALENDAR
VERSION:2.0
PRODID:-//The Velvet Note - ECPv6.15.20//NONSGML v1.0//EN
CALSCALE:GREGORIAN
METHOD:PUBLISH
X-ORIGINAL-URL:https://thevelvetnote.com
X-WR-CALDESC:Events for The Velvet Note
REFRESH-INTERVAL;VALUE=DURATION:PT1H
X-Robots-Tag:noindex
X-PUBLISHED-TTL:PT1H
BEGIN:VTIMEZONE
TZID:America/New_York
BEGIN:DAYLIGHT
TZOFFSETFROM:-0500
TZOFFSETTO:-0400
TZNAME:EDT
DTSTART:20230312T070000
END:DAYLIGHT
BEGIN:STANDARD
TZOFFSETFROM:-0400
TZOFFSETTO:-0500
TZNAME:EST
DTSTART:20231105T060000
END:STANDARD
BEGIN:DAYLIGHT
TZOFFSETFROM:-0500
TZOFFSETTO:-0400
TZNAME:EDT
DTSTART:20240310T070000
END:DAYLIGHT
BEGIN:STANDARD
TZOFFSETFROM:-0400
TZOFFSETTO:-0500
TZNAME:EST
DTSTART:20241103T060000
END:STANDARD
BEGIN:DAYLIGHT
TZOFFSETFROM:-0500
TZOFFSETTO:-0400
TZNAME:EDT
DTSTART:20250309T070000
END:DAYLIGHT
BEGIN:STANDARD
TZOFFSETFROM:-0400
TZOFFSETTO:-0500
TZNAME:EST
DTSTART:20251102T060000
END:STANDARD
END:VTIMEZONE
BEGIN:VEVENT
DTSTART;TZID=America/New_York:20240315T193000
DTEND;TZID=America/New_York:20240315T210000
DTSTAMP:20260423T023815
CREATED:20240311T024641Z
LAST-MODIFIED:20240315T214648Z
UID:29804-1710531000-1710536400@thevelvetnote.com
SUMMARY:Friday\, March 15th:  The Billy Ross Trio   *** SOLD OUT!!   SOLD OUT!!   SOLD OUT!!  SOLD OUT!!   ***
DESCRIPTION:ONE SHOW ONLY:  7:30PM.   Billy Ross is a local bassist and composer. Having played many different genres of music with artists all around Atlanta\, Billy is ready to embrace all of his influences with his own interpretation of music. The Billy Ross Trio will be playing the music of your favorite Jazz artist from the 1940s to the present day\, bringing you on a musical journey through time.
URL:https://thevelvetnote.com/event/friday-march-15th-the-billy-ross-trio/
ATTACH;FMTTYPE=image/jpeg:https://thevelvetnote.com/wp-content/uploads/2024/03/The-Billy-Ross-Trio.jpg
END:VEVENT
END:VCALENDAR