BEGIN:VCALENDAR
VERSION:2.0
PRODID:-//The Velvet Note - ECPv6.15.20//NONSGML v1.0//EN
CALSCALE:GREGORIAN
METHOD:PUBLISH
X-ORIGINAL-URL:https://thevelvetnote.com
X-WR-CALDESC:Events for The Velvet Note
REFRESH-INTERVAL;VALUE=DURATION:PT1H
X-Robots-Tag:noindex
X-PUBLISHED-TTL:PT1H
BEGIN:VTIMEZONE
TZID:America/New_York
BEGIN:DAYLIGHT
TZOFFSETFROM:-0500
TZOFFSETTO:-0400
TZNAME:EDT
DTSTART:20230312T070000
END:DAYLIGHT
BEGIN:STANDARD
TZOFFSETFROM:-0400
TZOFFSETTO:-0500
TZNAME:EST
DTSTART:20231105T060000
END:STANDARD
BEGIN:DAYLIGHT
TZOFFSETFROM:-0500
TZOFFSETTO:-0400
TZNAME:EDT
DTSTART:20240310T070000
END:DAYLIGHT
BEGIN:STANDARD
TZOFFSETFROM:-0400
TZOFFSETTO:-0500
TZNAME:EST
DTSTART:20241103T060000
END:STANDARD
BEGIN:DAYLIGHT
TZOFFSETFROM:-0500
TZOFFSETTO:-0400
TZNAME:EDT
DTSTART:20250309T070000
END:DAYLIGHT
BEGIN:STANDARD
TZOFFSETFROM:-0400
TZOFFSETTO:-0500
TZNAME:EST
DTSTART:20251102T060000
END:STANDARD
END:VTIMEZONE
BEGIN:VEVENT
DTSTART;TZID=America/New_York:20240308T193000
DTEND;TZID=America/New_York:20240308T230000
DTSTAMP:20260423T023815
CREATED:20240223T190728Z
LAST-MODIFIED:20240223T190846Z
UID:29775-1709926200-1709938800@thevelvetnote.com
SUMMARY:Friday\, March 8th:  Braves Organist Matt Kaminski's Tales from Left Field
DESCRIPTION:SHOWTIMES:  7:30PM AND 9:30PM. \n\n\n\nCALLING ALL BRAVES FANS– get here! Two weeks before Opening Day\, join us for a rare\, exclusive performance starring Braves Organist Matt Kaminski and his JAZZ QUARTET! Kaminski is the organist for the Atlanta Braves baseball team. He is known internationally for his use of Twitter to interact with fans to select walk-on music for members of the opposing teams. The BBC News featured Kaminski’s use of social media to crowdsource ideas for amusing or pointed walkup songs\, and Sports Illustrated accused him of “expertly trolling” with his musical choices. \n\n\n\nIn this exclusive performance\, Matt leads fans through an odyssey of his music\, combined with storytelling from the ball field that only he can convey. Get your seats NOW!
URL:https://thevelvetnote.com/event/friday-march-8th-braves-organist-matt-kaminskis-tales-from-left-field/
LOCATION:The Velvet Note Main Stage\, 4075 Old Milton Parkway\, Alpharetta\, 30005\, United States
ATTACH;FMTTYPE=image/jpeg:https://thevelvetnote.com/wp-content/uploads/2024/02/Untitled-design-132.jpg
END:VEVENT
END:VCALENDAR