BEGIN:VCALENDAR
VERSION:2.0
PRODID:-//The Velvet Note - ECPv6.15.20//NONSGML v1.0//EN
CALSCALE:GREGORIAN
METHOD:PUBLISH
X-ORIGINAL-URL:https://thevelvetnote.com
X-WR-CALDESC:Events for The Velvet Note
REFRESH-INTERVAL;VALUE=DURATION:PT1H
X-Robots-Tag:noindex
X-PUBLISHED-TTL:PT1H
BEGIN:VTIMEZONE
TZID:America/New_York
BEGIN:DAYLIGHT
TZOFFSETFROM:-0500
TZOFFSETTO:-0400
TZNAME:EDT
DTSTART:20230312T070000
END:DAYLIGHT
BEGIN:STANDARD
TZOFFSETFROM:-0400
TZOFFSETTO:-0500
TZNAME:EST
DTSTART:20231105T060000
END:STANDARD
BEGIN:DAYLIGHT
TZOFFSETFROM:-0500
TZOFFSETTO:-0400
TZNAME:EDT
DTSTART:20240310T070000
END:DAYLIGHT
BEGIN:STANDARD
TZOFFSETFROM:-0400
TZOFFSETTO:-0500
TZNAME:EST
DTSTART:20241103T060000
END:STANDARD
BEGIN:DAYLIGHT
TZOFFSETFROM:-0500
TZOFFSETTO:-0400
TZNAME:EDT
DTSTART:20250309T070000
END:DAYLIGHT
BEGIN:STANDARD
TZOFFSETFROM:-0400
TZOFFSETTO:-0500
TZNAME:EST
DTSTART:20251102T060000
END:STANDARD
END:VTIMEZONE
BEGIN:VEVENT
DTSTART;TZID=America/New_York:20240218T190000
DTEND;TZID=America/New_York:20240218T223000
DTSTAMP:20260423T040059
CREATED:20231114T183950Z
LAST-MODIFIED:20240213T185420Z
UID:29466-1708282800-1708295400@thevelvetnote.com
SUMMARY:Sunday\, February 18th:  2024 GRAMMY-WINNER Nicole Zuraitis ****   SOLD OUT!!   SOLD OUT!!   SOLD OUT!!   SOLD OUT!! ***
DESCRIPTION:2024 GRAMMY-Award Winner (Best Jazz Vocal Album) Nicole Zuraitis returns to The Velvet Note with her celebrated album and extraordinary quartet.  A must see show!
URL:https://thevelvetnote.com/event/sunday-november-18th-2024-grammy-nominee-nicole-zuraitis/
LOCATION:The Velvet Note Main Stage\, 4075 Old Milton Parkway\, Alpharetta\, 30005\, United States
ATTACH;FMTTYPE=image/jpeg:https://thevelvetnote.com/wp-content/uploads/2023/03/AF2679CC-6AF1-47BF-98F6-D7CF6AAE7214-scaled.jpeg
END:VEVENT
END:VCALENDAR