BEGIN:VCALENDAR
VERSION:2.0
PRODID:-//The Velvet Note - ECPv6.15.20//NONSGML v1.0//EN
CALSCALE:GREGORIAN
METHOD:PUBLISH
X-ORIGINAL-URL:https://thevelvetnote.com
X-WR-CALDESC:Events for The Velvet Note
REFRESH-INTERVAL;VALUE=DURATION:PT1H
X-Robots-Tag:noindex
X-PUBLISHED-TTL:PT1H
BEGIN:VTIMEZONE
TZID:America/New_York
BEGIN:DAYLIGHT
TZOFFSETFROM:-0500
TZOFFSETTO:-0400
TZNAME:EDT
DTSTART:20230312T070000
END:DAYLIGHT
BEGIN:STANDARD
TZOFFSETFROM:-0400
TZOFFSETTO:-0500
TZNAME:EST
DTSTART:20231105T060000
END:STANDARD
BEGIN:DAYLIGHT
TZOFFSETFROM:-0500
TZOFFSETTO:-0400
TZNAME:EDT
DTSTART:20240310T070000
END:DAYLIGHT
BEGIN:STANDARD
TZOFFSETFROM:-0400
TZOFFSETTO:-0500
TZNAME:EST
DTSTART:20241103T060000
END:STANDARD
BEGIN:DAYLIGHT
TZOFFSETFROM:-0500
TZOFFSETTO:-0400
TZNAME:EDT
DTSTART:20250309T070000
END:DAYLIGHT
BEGIN:STANDARD
TZOFFSETFROM:-0400
TZOFFSETTO:-0500
TZNAME:EST
DTSTART:20251102T060000
END:STANDARD
END:VTIMEZONE
BEGIN:VEVENT
DTSTART;TZID=America/New_York:20240209T193000
DTEND;TZID=America/New_York:20240210T230000
DTSTAMP:20260423T040013
CREATED:20240129T002810Z
LAST-MODIFIED:20240129T011236Z
UID:29674-1707507000-1707606000@thevelvetnote.com
SUMMARY:Friday and Saturday\, February 9th&10th:  The Eric Wyatt Presents Award-Winning Singer Tyreek McDole
DESCRIPTION:FRIDAY AND SATURDAY SHOWTIMES:  7:30PM AND 9:30PM \n\n\n\nNYC Saxophonist Eric Wyatt always brings a great band with him to The Velvet Note and THIS is one for the books! \n\n\n\nTyreek McDole\, an outstanding 23-year-old vocalist\, has been making waves and enchanting audiences with his remarkable talent\, characterized by a velvety tone and polished delivery. With a string of prestigious awards to his name\, Tyreek shines as a rising star in the music world. \n\n\n\n\n\n\n\n\n\nHe has been recently declared the 1st place winner of the Sarah International Jazz Vocal Competition. Noted as one of the most anticipated events in jazz\, McDole’s accolade now ranks him among the competition’s previous winners including the standout artists Samara Joy (2019 winner) and Jazzmeia Horn (2013 winner). Tyreek is the 2nd male to ever win in the competition’s 12 year history. \n\n\n\nNow Based in New York City\, Tyreek McDole is leaving a lasting impact on the music industry\, solidifying himself as a young artist with immense potential.
URL:https://thevelvetnote.com/event/friday-and-saturday-february-9th10th-the-eric-wyatt-quartet-featuring-award-winning-singer-tyreek-mcdole/
LOCATION:The Velvet Note Main Stage\, 4075 Old Milton Parkway\, Alpharetta\, 30005\, United States
ATTACH;FMTTYPE=image/jpeg:https://thevelvetnote.com/wp-content/uploads/2024/01/The-Eric-Wyatt-Quartet-featuring.jpg
END:VEVENT
END:VCALENDAR