BEGIN:VCALENDAR
VERSION:2.0
PRODID:-//The Velvet Note - ECPv6.15.20//NONSGML v1.0//EN
CALSCALE:GREGORIAN
METHOD:PUBLISH
X-WR-CALNAME:The Velvet Note
X-ORIGINAL-URL:https://thevelvetnote.com
X-WR-CALDESC:Events for The Velvet Note
REFRESH-INTERVAL;VALUE=DURATION:PT1H
X-Robots-Tag:noindex
X-PUBLISHED-TTL:PT1H
BEGIN:VTIMEZONE
TZID:America/New_York
BEGIN:DAYLIGHT
TZOFFSETFROM:-0500
TZOFFSETTO:-0400
TZNAME:EDT
DTSTART:20230312T070000
END:DAYLIGHT
BEGIN:STANDARD
TZOFFSETFROM:-0400
TZOFFSETTO:-0500
TZNAME:EST
DTSTART:20231105T060000
END:STANDARD
BEGIN:DAYLIGHT
TZOFFSETFROM:-0500
TZOFFSETTO:-0400
TZNAME:EDT
DTSTART:20240310T070000
END:DAYLIGHT
BEGIN:STANDARD
TZOFFSETFROM:-0400
TZOFFSETTO:-0500
TZNAME:EST
DTSTART:20241103T060000
END:STANDARD
BEGIN:DAYLIGHT
TZOFFSETFROM:-0500
TZOFFSETTO:-0400
TZNAME:EDT
DTSTART:20250309T070000
END:DAYLIGHT
BEGIN:STANDARD
TZOFFSETFROM:-0400
TZOFFSETTO:-0500
TZNAME:EST
DTSTART:20251102T060000
END:STANDARD
END:VTIMEZONE
BEGIN:VEVENT
DTSTART;TZID=America/New_York:20240120T193000
DTEND;TZID=America/New_York:20240120T230000
DTSTAMP:20260423T053003
CREATED:20240102T114631Z
LAST-MODIFIED:20240119T203902Z
UID:29601-1705779000-1705791600@thevelvetnote.com
SUMMARY:Saturday\, January 20th:  Auriyan *** SOLD OUT!!!   SOLD OUT!!   SOLD OUT!!  ***
DESCRIPTION:SHOWTIMES:  7:30PM AND 9:30PM.  Auriyan Tillman is an incredibly diverse vocalist who has been sharing her gift since she was a little girl singing in local churches\, city events and school performances. She attended John S. Davidson Fine Arts Magnet School in Augusta\, GA\, and developed her singing and performance skills in the demanding music program there. She became lead vocalist with the school’s jazz band and\, with that experience\, discovered the feel and the songs of jazz\, growing a love for the music.   \n\n\n\nFollowing high school\, Auriyan decided to pursue a career as a musician and continued her education at Kennesaw State University\, studying under jazz vocalist Karla Harris. She earned her Bachelor of Music in Jazz Performance in May 2023 and has been busy further developing her talents\, performing at Atlanta venues such as Ray’s on the River\, Ray’s in the City\, Elliot St. Pub\, Redlight Café\, The Balzer Theatre\, St. James Live and more. She’s caught the attention of some of Atlanta’s top jazz musicians and has shared the stage with people such as pianist Tyrone Jackson\, drummer/producer Larry Wilson\, and drummer Chris Burroughs. \n\n\n\nAuriyan is poised to make her mark on the jazz scene as a vocalist unafraid to step outside of the expected and bring something new to the jazz conversation.
URL:https://thevelvetnote.com/event/saturday-january-20th-auriyan/
LOCATION:The Velvet Note Main Stage\, 4075 Old Milton Parkway\, Alpharetta\, 30005\, United States
ATTACH;FMTTYPE=image/jpeg:https://thevelvetnote.com/wp-content/uploads/2024/01/IMG_8417.jpg
END:VEVENT
END:VCALENDAR