BEGIN:VCALENDAR
VERSION:2.0
PRODID:-//The Velvet Note - ECPv6.15.20//NONSGML v1.0//EN
CALSCALE:GREGORIAN
METHOD:PUBLISH
X-ORIGINAL-URL:https://thevelvetnote.com
X-WR-CALDESC:Events for The Velvet Note
REFRESH-INTERVAL;VALUE=DURATION:PT1H
X-Robots-Tag:noindex
X-PUBLISHED-TTL:PT1H
BEGIN:VTIMEZONE
TZID:America/New_York
BEGIN:DAYLIGHT
TZOFFSETFROM:-0500
TZOFFSETTO:-0400
TZNAME:EDT
DTSTART:20220313T070000
END:DAYLIGHT
BEGIN:STANDARD
TZOFFSETFROM:-0400
TZOFFSETTO:-0500
TZNAME:EST
DTSTART:20221106T060000
END:STANDARD
BEGIN:DAYLIGHT
TZOFFSETFROM:-0500
TZOFFSETTO:-0400
TZNAME:EDT
DTSTART:20230312T070000
END:DAYLIGHT
BEGIN:STANDARD
TZOFFSETFROM:-0400
TZOFFSETTO:-0500
TZNAME:EST
DTSTART:20231105T060000
END:STANDARD
BEGIN:DAYLIGHT
TZOFFSETFROM:-0500
TZOFFSETTO:-0400
TZNAME:EDT
DTSTART:20240310T070000
END:DAYLIGHT
BEGIN:STANDARD
TZOFFSETFROM:-0400
TZOFFSETTO:-0500
TZNAME:EST
DTSTART:20241103T060000
END:STANDARD
END:VTIMEZONE
BEGIN:VEVENT
DTSTART;TZID=America/New_York:20231217T140000
DTEND;TZID=America/New_York:20231217T153000
DTSTAMP:20260423T065408
CREATED:20221212T120510Z
LAST-MODIFIED:20231216T233217Z
UID:28432-1702821600-1702827000@thevelvetnote.com
SUMMARY:Sunday\, December 17th:  Jennifer Wrobleski's Christmas Show   *** SOLD OUT!!   SOLD OUT!!   SOLD OUT!!  ***
DESCRIPTION:ONE SHOW:  2:00pm.  Here’s your chance to really get into the Spirit of the Season! Join us for the holiday season afternoon performance of jazz singer Jennifer Wrobleski\, featuring pianist Kevin Bales.  This festive afternoon features a menu of brunch fare\, surprise gifts and a Christmas sing-a-long!
URL:https://thevelvetnote.com/event/sunday-december-18th-jennifer-wrobleskis-christmas-show/
LOCATION:The Velvet Note Main Stage\, 4075 Old Milton Parkway\, Alpharetta\, 30005\, United States
ATTACH;FMTTYPE=image/jpeg:https://thevelvetnote.com/wp-content/uploads/2022/12/IMG_7903.jpeg
END:VEVENT
BEGIN:VEVENT
DTSTART;TZID=America/New_York:20231217T190000
DTEND;TZID=America/New_York:20231217T203000
DTSTAMP:20260423T065408
CREATED:20211121T175305Z
LAST-MODIFIED:20231122T010905Z
UID:27501-1702839600-1702845000@thevelvetnote.com
SUMMARY:Sunday\, December 17th:  LOJ Presents A Charlie Brown Christmas LIVE!!  *** SOLD OUT!!   SOLD OUT!!   SOLD OUT!!   ***
DESCRIPTION:The Velvet Note presents another segment of its thirteenth series of Legends of Jazz\, featuring the music of A Charlie Brown Christmas. As with the entire monthly Legends of Jazz series\, The Justin Varnes Quartet will guide guests–in engaging\, narrative form– through the life and music of this iconic holiday album of popular jazz music. It’s like taking in a concert and taking a jazz history class at the same time\, and…\, oh… they’ll also play their behinds off!​  \n\n\n\n*** SOLD OUT!!   SOLD OUT!!   SOLD OUT!!   SOLD OUT!!   SOLD OUT!!   SOLD OUT!!  ***
URL:https://thevelvetnote.com/event/sunday-december-5th-loj-presents-a-charlie-brown-christmas-live/
LOCATION:The Velvet Note Main Stage\, 4075 Old Milton Parkway\, Alpharetta\, 30005\, United States
ATTACH;FMTTYPE=image/jpeg:https://thevelvetnote.com/wp-content/uploads/2021/11/7112611D-F7C5-420B-8B37-6808109CE98F.jpeg
END:VEVENT
END:VCALENDAR