BEGIN:VCALENDAR
VERSION:2.0
PRODID:-//The Velvet Note - ECPv6.15.20//NONSGML v1.0//EN
CALSCALE:GREGORIAN
METHOD:PUBLISH
X-WR-CALNAME:The Velvet Note
X-ORIGINAL-URL:https://thevelvetnote.com
X-WR-CALDESC:Events for The Velvet Note
REFRESH-INTERVAL;VALUE=DURATION:PT1H
X-Robots-Tag:noindex
X-PUBLISHED-TTL:PT1H
BEGIN:VTIMEZONE
TZID:America/New_York
BEGIN:DAYLIGHT
TZOFFSETFROM:-0500
TZOFFSETTO:-0400
TZNAME:EDT
DTSTART:20220313T070000
END:DAYLIGHT
BEGIN:STANDARD
TZOFFSETFROM:-0400
TZOFFSETTO:-0500
TZNAME:EST
DTSTART:20221106T060000
END:STANDARD
BEGIN:DAYLIGHT
TZOFFSETFROM:-0500
TZOFFSETTO:-0400
TZNAME:EDT
DTSTART:20230312T070000
END:DAYLIGHT
BEGIN:STANDARD
TZOFFSETFROM:-0400
TZOFFSETTO:-0500
TZNAME:EST
DTSTART:20231105T060000
END:STANDARD
BEGIN:DAYLIGHT
TZOFFSETFROM:-0500
TZOFFSETTO:-0400
TZNAME:EDT
DTSTART:20240310T070000
END:DAYLIGHT
BEGIN:STANDARD
TZOFFSETFROM:-0400
TZOFFSETTO:-0500
TZNAME:EST
DTSTART:20241103T060000
END:STANDARD
END:VTIMEZONE
BEGIN:VEVENT
DTSTART;TZID=America/New_York:20231215T193000
DTEND;TZID=America/New_York:20231215T210000
DTSTAMP:20260423T065246
CREATED:20231207T002710Z
LAST-MODIFIED:20231207T002718Z
UID:29535-1702668600-1702674000@thevelvetnote.com
SUMMARY:Friday\, December 15th:  Happy Holidays with Rusty Hayes
DESCRIPTION:ONE SHOW ONLY– 7:30pm. Rusty Hayes is an exuberant crooner\, raised in the Atlanta area. He grew up surrounded by a rich mixture of soul stirring music and great story telling. He would listen intently as a child when the adults described the antics that went on at parties when such songs as Saturday Night Fish Fry by Louis Jordan\, were jumping. Equally fascinating and moving was the classic and contemporary gospel music that was everywhere in his formative years. Jazz\, Soul and Rock also shaped his musical landscape as Atlanta became a more multicultural city. He started writing poetry and songs as a teenager. That was also about the time that he joined the Stone Mountain Male Chorus\, a gospel group founded in his neighborhood.
URL:https://thevelvetnote.com/event/friday-december-15th-happy-holidays-with-rusty-hayes/
LOCATION:The Velvet Note Main Stage\, 4075 Old Milton Parkway\, Alpharetta\, 30005\, United States
ATTACH;FMTTYPE=image/jpeg:https://thevelvetnote.com/wp-content/uploads/2023/12/Untitled-design-121.jpg
END:VEVENT
END:VCALENDAR