BEGIN:VCALENDAR
VERSION:2.0
PRODID:-//The Velvet Note - ECPv6.15.20//NONSGML v1.0//EN
CALSCALE:GREGORIAN
METHOD:PUBLISH
X-WR-CALNAME:The Velvet Note
X-ORIGINAL-URL:https://thevelvetnote.com
X-WR-CALDESC:Events for The Velvet Note
REFRESH-INTERVAL;VALUE=DURATION:PT1H
X-Robots-Tag:noindex
X-PUBLISHED-TTL:PT1H
BEGIN:VTIMEZONE
TZID:America/New_York
BEGIN:DAYLIGHT
TZOFFSETFROM:-0500
TZOFFSETTO:-0400
TZNAME:EDT
DTSTART:20220313T070000
END:DAYLIGHT
BEGIN:STANDARD
TZOFFSETFROM:-0400
TZOFFSETTO:-0500
TZNAME:EST
DTSTART:20221106T060000
END:STANDARD
BEGIN:DAYLIGHT
TZOFFSETFROM:-0500
TZOFFSETTO:-0400
TZNAME:EDT
DTSTART:20230312T070000
END:DAYLIGHT
BEGIN:STANDARD
TZOFFSETFROM:-0400
TZOFFSETTO:-0500
TZNAME:EST
DTSTART:20231105T060000
END:STANDARD
BEGIN:DAYLIGHT
TZOFFSETFROM:-0500
TZOFFSETTO:-0400
TZNAME:EDT
DTSTART:20240310T070000
END:DAYLIGHT
BEGIN:STANDARD
TZOFFSETFROM:-0400
TZOFFSETTO:-0500
TZNAME:EST
DTSTART:20241103T060000
END:STANDARD
END:VTIMEZONE
BEGIN:VEVENT
DTSTART;TZID=America/New_York:20231206T190000
DTEND;TZID=America/New_York:20231206T210000
DTSTAMP:20260423T065239
CREATED:20231121T022143Z
LAST-MODIFIED:20231128T200015Z
UID:29501-1701889200-1701896400@thevelvetnote.com
SUMMARY:Wednesday\, December 6th:  Sataras Quartet
DESCRIPTION:ONE SHOW ONLY:  7pm.  Sataraš Quartet (pronounced SAH – tah – rash) is an instrumental quartet from Atlanta that fuses jazz improvisation with ethnic Southern European roots and American blues to create exciting new worlds of sound. Conceived by guitarist Eddie Beho and saxophonist Jeff Crompton\, they soon lured bassist Colin Bragg and drummer Blake Helton with the promise of untold musical delights. The work of John Coltrane\, Miles Davis\, and Jimi Hendrix are touchstones\, and yet the group has found both an original\, powerful sound and a loyal following. \n\n\n\nThe group released a studio album Errors and Omissions that fulfilled their mantra of “music 5000 miles wide.” The tracks traverse time\, distance\, and influence\, but come together in a way that only a well-tuned band can produce – assured\, exciting\, and at times telepathic. All aspects of the Quartet’s musical output is covered: adventurous\, electric takes on ethnic folk\, abstract blues and funk\, an original jazz\, and a jazz classics. The group navigates these stylistic turns with a strong sonic identity and unity of purpose.  \n\n\n\nJournalist Doug DeLoach states\, “It’s jazz seasoned with sinuous Balkan riffs and compound Macedonian rhythms\, smoked to perfection and washed down with a pitcher of Bitches Brew.” \n\n\n\nKeen to present their live sound\, the group has planned an ongoing run of limited edition releases titled the Official Bootleg Series. The first volume captures a performance at Atlanta’s Red Light Cafe. \n\n\n\nMusic writer Bill Mankin exclaims\, “This album is stunning. And it’s not just ‘great for a live album’; the audio fidelity is outstanding\, as is the stereo mix…the music\, arrangements and playing are phenomenal\, and the stylistic mix is not merely fascinating\, it works brilliantly. This is my new favorite album!”
URL:https://thevelvetnote.com/event/wednesday-december-6th-sataras-quartet/
LOCATION:The Velvet Note Main Stage\, 4075 Old Milton Parkway\, Alpharetta\, 30005\, United States
ATTACH;FMTTYPE=image/jpeg:https://thevelvetnote.com/wp-content/uploads/2023/11/image_123650291-1.jpeg
END:VEVENT
END:VCALENDAR