BEGIN:VCALENDAR
VERSION:2.0
PRODID:-//The Velvet Note - ECPv6.15.20//NONSGML v1.0//EN
CALSCALE:GREGORIAN
METHOD:PUBLISH
X-WR-CALNAME:The Velvet Note
X-ORIGINAL-URL:https://thevelvetnote.com
X-WR-CALDESC:Events for The Velvet Note
REFRESH-INTERVAL;VALUE=DURATION:PT1H
X-Robots-Tag:noindex
X-PUBLISHED-TTL:PT1H
BEGIN:VTIMEZONE
TZID:America/New_York
BEGIN:DAYLIGHT
TZOFFSETFROM:-0500
TZOFFSETTO:-0400
TZNAME:EDT
DTSTART:20220313T070000
END:DAYLIGHT
BEGIN:STANDARD
TZOFFSETFROM:-0400
TZOFFSETTO:-0500
TZNAME:EST
DTSTART:20221106T060000
END:STANDARD
BEGIN:DAYLIGHT
TZOFFSETFROM:-0500
TZOFFSETTO:-0400
TZNAME:EDT
DTSTART:20230312T070000
END:DAYLIGHT
BEGIN:STANDARD
TZOFFSETFROM:-0400
TZOFFSETTO:-0500
TZNAME:EST
DTSTART:20231105T060000
END:STANDARD
BEGIN:DAYLIGHT
TZOFFSETFROM:-0500
TZOFFSETTO:-0400
TZNAME:EDT
DTSTART:20240310T070000
END:DAYLIGHT
BEGIN:STANDARD
TZOFFSETFROM:-0400
TZOFFSETTO:-0500
TZNAME:EST
DTSTART:20241103T060000
END:STANDARD
END:VTIMEZONE
BEGIN:VEVENT
DTSTART;TZID=America/New_York:20231116T200000
DTEND;TZID=America/New_York:20231116T230000
DTSTAMP:20260423T082323
CREATED:20231111T000229Z
LAST-MODIFIED:20231111T000239Z
UID:29451-1700164800-1700175600@thevelvetnote.com
SUMMARY:Thursday\, November 16th:  Open Mic Jam Hosted by Owner Tamara Fuller
DESCRIPTION:JAM TIMES: 8PM – 11P\,. Tamara’s back from vacation and she’s looking for next year’s talent! Open Mic is a little like Karaoke\, but much\, much better. Come out and listen to or jam with our extraordinary house band\, or take the stage all on your own. The first hour showcases the house band\, followed by a full-on jam session! It’s hosted by Velvet Note Owner Tamara Fuller\, with invited special guests each week\, so you know it’s gonna be hot. Oh\, and she’s always on the lookout for new talent for Velvet Note shows! And come hungry and thirsty–we roll out our delicious house and bar specialities for the week\, just for you.
URL:https://thevelvetnote.com/event/thursday-november-16th-open-mic-jam-hosted-by-owner-tamara-fuller/
LOCATION:The Velvet Note Main Stage\, 4075 Old Milton Parkway\, Alpharetta\, 30005\, United States
ATTACH;FMTTYPE=image/jpeg:https://thevelvetnote.com/wp-content/uploads/2023/08/314723440_5998349820208985_3237939924004941354_n.jpeg
END:VEVENT
END:VCALENDAR