BEGIN:VCALENDAR
VERSION:2.0
PRODID:-//The Velvet Note - ECPv6.15.20//NONSGML v1.0//EN
CALSCALE:GREGORIAN
METHOD:PUBLISH
X-WR-CALNAME:The Velvet Note
X-ORIGINAL-URL:https://thevelvetnote.com
X-WR-CALDESC:Events for The Velvet Note
REFRESH-INTERVAL;VALUE=DURATION:PT1H
X-Robots-Tag:noindex
X-PUBLISHED-TTL:PT1H
BEGIN:VTIMEZONE
TZID:America/New_York
BEGIN:DAYLIGHT
TZOFFSETFROM:-0500
TZOFFSETTO:-0400
TZNAME:EDT
DTSTART:20220313T070000
END:DAYLIGHT
BEGIN:STANDARD
TZOFFSETFROM:-0400
TZOFFSETTO:-0500
TZNAME:EST
DTSTART:20221106T060000
END:STANDARD
BEGIN:DAYLIGHT
TZOFFSETFROM:-0500
TZOFFSETTO:-0400
TZNAME:EDT
DTSTART:20230312T070000
END:DAYLIGHT
BEGIN:STANDARD
TZOFFSETFROM:-0400
TZOFFSETTO:-0500
TZNAME:EST
DTSTART:20231105T060000
END:STANDARD
BEGIN:DAYLIGHT
TZOFFSETFROM:-0500
TZOFFSETTO:-0400
TZNAME:EDT
DTSTART:20240310T070000
END:DAYLIGHT
BEGIN:STANDARD
TZOFFSETFROM:-0400
TZOFFSETTO:-0500
TZNAME:EST
DTSTART:20241103T060000
END:STANDARD
END:VTIMEZONE
BEGIN:VEVENT
DTSTART;TZID=America/New_York:20231112T190000
DTEND;TZID=America/New_York:20231112T203000
DTSTAMP:20260423T082456
CREATED:20231022T225513Z
LAST-MODIFIED:20231112T224749Z
UID:29395-1699815600-1699821000@thevelvetnote.com
SUMMARY:Sunday\, November 12th:  Jody Mayfield Performs and Teaches Trap Jazz    *** SOLD OUT!!  SOLD OUT!!   SOLD OUT!!   ***
DESCRIPTION:SHOWTIME:  7:00pm.  In “trap jazz\,” the term “trap” is borrowed from the trap music genre and is used to describe the incorporation of trap-style beats\, rhythms\, and production techniques into jazz music. Trap music originated in the early 2000s and is characterized by its use of heavy 808 drum patterns\, hi-hats\, aggressive beats\, and often dark and atmospheric soundscapes. This fusion of genres results in a unique blend of traditional jazz elements and contemporary hip-hop influences. \n\n\n\nJody Mayfield is a highly-regarded jazz virtuoso hailing from Atlanta\, GA. He honed his musical skills at Morris Brown College\, where he received a B.A. in Music Performance and a Master’s degree in Music Technology from Southern Utah University. Jody’s exceptional educational background complements his immense musical talent.  Throughout his career\, Jody has had the privilege of performing alongside legendary jazz musicians such as Dizzy Gillespie\, James Lloyd\, Frank Foster\, and Grover Washington Jr. He has also opened for iconic artists\, including Sarah Vaughn\, Dexter Gordon\, and Lionel Hampton\, and collaborated with hip-hop legends like Jermaine Dupri and Organized Noize. \n\n\n\nProfessor Mayfield’s program is a three-part concert residency\, performed with a full band on the following dates:  November 12\, December 10 and January 21.  
URL:https://thevelvetnote.com/event/sunday-november-12th-jody-mayfield-teaches-trap-jazz/
LOCATION:The Velvet Note Main Stage\, 4075 Old Milton Parkway\, Alpharetta\, 30005\, United States
ATTACH;FMTTYPE=image/jpeg:https://thevelvetnote.com/wp-content/uploads/2023/10/ab6761610000e5ebd0b461281c8fdad5fd2eecf6.jpeg
END:VEVENT
END:VCALENDAR