BEGIN:VCALENDAR
VERSION:2.0
PRODID:-//The Velvet Note - ECPv6.15.20//NONSGML v1.0//EN
CALSCALE:GREGORIAN
METHOD:PUBLISH
X-ORIGINAL-URL:https://thevelvetnote.com
X-WR-CALDESC:Events for The Velvet Note
REFRESH-INTERVAL;VALUE=DURATION:PT1H
X-Robots-Tag:noindex
X-PUBLISHED-TTL:PT1H
BEGIN:VTIMEZONE
TZID:America/New_York
BEGIN:DAYLIGHT
TZOFFSETFROM:-0500
TZOFFSETTO:-0400
TZNAME:EDT
DTSTART:20220313T070000
END:DAYLIGHT
BEGIN:STANDARD
TZOFFSETFROM:-0400
TZOFFSETTO:-0500
TZNAME:EST
DTSTART:20221106T060000
END:STANDARD
BEGIN:DAYLIGHT
TZOFFSETFROM:-0500
TZOFFSETTO:-0400
TZNAME:EDT
DTSTART:20230312T070000
END:DAYLIGHT
BEGIN:STANDARD
TZOFFSETFROM:-0400
TZOFFSETTO:-0500
TZNAME:EST
DTSTART:20231105T060000
END:STANDARD
BEGIN:DAYLIGHT
TZOFFSETFROM:-0500
TZOFFSETTO:-0400
TZNAME:EDT
DTSTART:20240310T070000
END:DAYLIGHT
BEGIN:STANDARD
TZOFFSETFROM:-0400
TZOFFSETTO:-0500
TZNAME:EST
DTSTART:20241103T060000
END:STANDARD
END:VTIMEZONE
BEGIN:VEVENT
DTSTART;TZID=America/New_York:20231027T193000
DTEND;TZID=America/New_York:20231027T230000
DTSTAMP:20260423T094707
CREATED:20230913T224957Z
LAST-MODIFIED:20230914T013019Z
UID:29286-1698435000-1698447600@thevelvetnote.com
SUMMARY:Friday\, October 27th:  Carrie Bell Sings Gershwin
DESCRIPTION:Carrie has spent her life committed to the art of storytelling through music. \n\n\n\nHer career started as an artist\, performing as a triple threat – with a musical theater career earning her equity status doing professional shows across the country. She has also doubled down on a commitment to music and arts education\, running her own dance troupe and ultimately /helping hundreds of students learn to find their voice through vocal technique and coaching…which she still does today. \n\n\n\n A classically trained vocalist and pianist\, Carrie is also a talented songwriter who has always wanted to tell stories for music that remind us that life really is a stage and that music has the power to connect us by illuminating our shared journey through “this thing called life.” \n\n\n\nBut her first love\, the music that inspired her as a child and to this day is a staple in her performance roster is the music of George and Ira Gershwin! \n\n\n\nShe has previously taken the stage at The Velvet Note with the Justin Varnes Quartet for the Jazz Legend’s Series celebrating George Gershwin\, and is back by popular demand with her own selection of favorites and arrangements. \n\n\n\nLet Carrie take you on a journey through song through the eyes of a legendary catalogue of music.
URL:https://thevelvetnote.com/event/friday-october-27th-musical-artist-carrie-bell/
LOCATION:The Velvet Note Main Stage\, 4075 Old Milton Parkway\, Alpharetta\, 30005\, United States
ATTACH;FMTTYPE=image/jpeg:https://thevelvetnote.com/wp-content/uploads/2023/09/Carrie-piano1-scaled.jpeg
END:VEVENT
END:VCALENDAR