BEGIN:VCALENDAR
VERSION:2.0
PRODID:-//The Velvet Note - ECPv6.15.20//NONSGML v1.0//EN
CALSCALE:GREGORIAN
METHOD:PUBLISH
X-WR-CALNAME:The Velvet Note
X-ORIGINAL-URL:https://thevelvetnote.com
X-WR-CALDESC:Events for The Velvet Note
REFRESH-INTERVAL;VALUE=DURATION:PT1H
X-Robots-Tag:noindex
X-PUBLISHED-TTL:PT1H
BEGIN:VTIMEZONE
TZID:America/New_York
BEGIN:DAYLIGHT
TZOFFSETFROM:-0500
TZOFFSETTO:-0400
TZNAME:EDT
DTSTART:20220313T070000
END:DAYLIGHT
BEGIN:STANDARD
TZOFFSETFROM:-0400
TZOFFSETTO:-0500
TZNAME:EST
DTSTART:20221106T060000
END:STANDARD
BEGIN:DAYLIGHT
TZOFFSETFROM:-0500
TZOFFSETTO:-0400
TZNAME:EDT
DTSTART:20230312T070000
END:DAYLIGHT
BEGIN:STANDARD
TZOFFSETFROM:-0400
TZOFFSETTO:-0500
TZNAME:EST
DTSTART:20231105T060000
END:STANDARD
BEGIN:DAYLIGHT
TZOFFSETFROM:-0500
TZOFFSETTO:-0400
TZNAME:EDT
DTSTART:20240310T070000
END:DAYLIGHT
BEGIN:STANDARD
TZOFFSETFROM:-0400
TZOFFSETTO:-0500
TZNAME:EST
DTSTART:20241103T060000
END:STANDARD
END:VTIMEZONE
BEGIN:VEVENT
DTSTART;TZID=America/New_York:20231021T193000
DTEND;TZID=America/New_York:20231021T230000
DTSTAMP:20260423T094452
CREATED:20220911T185341Z
LAST-MODIFIED:20231003T014634Z
UID:28229-1697916600-1697929200@thevelvetnote.com
SUMMARY:Saturday\, October 21st:  Jazz Fusion Guitarist Chris Blackwell
DESCRIPTION:SHOWTIMES:  7:30PM & 9:30PM.  Chris Blackwell is an Atlanta-based guitarist\, song writer\, producer and studio musician.  Born into a family of musicians\, Chris began playing guitar at the age of 5 on his grandfather’s Gibson J-50 acoustic and has been playing professionally since he was 15.   \n\n\n\nHaving grown up surrounded by a wide variety of musical influences\, Chris has gone on to work in a multitude of genres such as rock\, country\, R&B\, jazz\, blues\, gospel and others.  Throughout his career\, Chris has played on stage or in studio with many notable artists including Jennifer Holliday\, Jimmy Buffett\, T Graham Brown\, Bo Bice\, James Otto\, Mac McAnally\, Tommy Talton\, Deborah Cox\, John Berry\, Lee Williams\, Inoj\, Chinua Hawk\, Rocktronix\, The Gregg Allman Laid Back Legacy Band\, and ABBA Mania. \n\n\n\nChris actively tours with various artists\, including the widely popular ABBA Mania – The Original from London’s West End\, and performs regularly in the Atlanta area with the Mike Veal Band.  His guitar work is featured on many albums\, including four Billboard top 20 charting singles and on television and radio commercials.   \n\n\n\nChris proudly endorses VVT Amplifiers\, Eastman Guitars\, Elixir Strings\, Jetter Effects\, and Revo Guitar Straps.
URL:https://thevelvetnote.com/event/saturday-september-17th-jazz-fusion-guitarist-chris-blackwell/
LOCATION:The Velvet Note Main Stage\, 4075 Old Milton Parkway\, Alpharetta\, 30005\, United States
ATTACH;FMTTYPE=image/jpeg:https://thevelvetnote.com/wp-content/uploads/2022/09/IMG_1041.jpg
END:VEVENT
END:VCALENDAR