BEGIN:VCALENDAR
VERSION:2.0
PRODID:-//The Velvet Note - ECPv6.15.20//NONSGML v1.0//EN
CALSCALE:GREGORIAN
METHOD:PUBLISH
X-WR-CALNAME:The Velvet Note
X-ORIGINAL-URL:https://thevelvetnote.com
X-WR-CALDESC:Events for The Velvet Note
REFRESH-INTERVAL;VALUE=DURATION:PT1H
X-Robots-Tag:noindex
X-PUBLISHED-TTL:PT1H
BEGIN:VTIMEZONE
TZID:America/New_York
BEGIN:DAYLIGHT
TZOFFSETFROM:-0500
TZOFFSETTO:-0400
TZNAME:EDT
DTSTART:20220313T070000
END:DAYLIGHT
BEGIN:STANDARD
TZOFFSETFROM:-0400
TZOFFSETTO:-0500
TZNAME:EST
DTSTART:20221106T060000
END:STANDARD
BEGIN:DAYLIGHT
TZOFFSETFROM:-0500
TZOFFSETTO:-0400
TZNAME:EDT
DTSTART:20230312T070000
END:DAYLIGHT
BEGIN:STANDARD
TZOFFSETFROM:-0400
TZOFFSETTO:-0500
TZNAME:EST
DTSTART:20231105T060000
END:STANDARD
BEGIN:DAYLIGHT
TZOFFSETFROM:-0500
TZOFFSETTO:-0400
TZNAME:EDT
DTSTART:20240310T070000
END:DAYLIGHT
BEGIN:STANDARD
TZOFFSETFROM:-0400
TZOFFSETTO:-0500
TZNAME:EST
DTSTART:20241103T060000
END:STANDARD
END:VTIMEZONE
BEGIN:VEVENT
DTSTART;TZID=America/New_York:20230930T193000
DTEND;TZID=America/New_York:20230930T230000
DTSTAMP:20260423T094518
CREATED:20230915T135806Z
LAST-MODIFIED:20230915T160957Z
UID:29299-1696102200-1696114800@thevelvetnote.com
SUMMARY:Saturday\, September 30th:  Smooth Jazz Saxophonist Jarred Armstrong
DESCRIPTION:On the cusp of a new soulful soundscape comes the genius of Jarred Armstrong bringing a sound influenced by many genres and styles of music. A talented musician of many instruments with a smooth voice trained on jazz classics\, he combines vintage sound and organic soul with a modern style spanning from edgy to elegant.
URL:https://thevelvetnote.com/event/saturday-september-30th-smooth-jazz-saxophonist-jarred-armstrong/
ATTACH;FMTTYPE=image/jpeg:https://thevelvetnote.com/wp-content/uploads/2023/09/velvetnoteja1.jpeg
END:VEVENT
END:VCALENDAR