BEGIN:VCALENDAR
VERSION:2.0
PRODID:-//The Velvet Note - ECPv6.15.20//NONSGML v1.0//EN
CALSCALE:GREGORIAN
METHOD:PUBLISH
X-WR-CALNAME:The Velvet Note
X-ORIGINAL-URL:https://thevelvetnote.com
X-WR-CALDESC:Events for The Velvet Note
REFRESH-INTERVAL;VALUE=DURATION:PT1H
X-Robots-Tag:noindex
X-PUBLISHED-TTL:PT1H
BEGIN:VTIMEZONE
TZID:America/New_York
BEGIN:DAYLIGHT
TZOFFSETFROM:-0500
TZOFFSETTO:-0400
TZNAME:EDT
DTSTART:20220313T070000
END:DAYLIGHT
BEGIN:STANDARD
TZOFFSETFROM:-0400
TZOFFSETTO:-0500
TZNAME:EST
DTSTART:20221106T060000
END:STANDARD
BEGIN:DAYLIGHT
TZOFFSETFROM:-0500
TZOFFSETTO:-0400
TZNAME:EDT
DTSTART:20230312T070000
END:DAYLIGHT
BEGIN:STANDARD
TZOFFSETFROM:-0400
TZOFFSETTO:-0500
TZNAME:EST
DTSTART:20231105T060000
END:STANDARD
BEGIN:DAYLIGHT
TZOFFSETFROM:-0500
TZOFFSETTO:-0400
TZNAME:EDT
DTSTART:20240310T070000
END:DAYLIGHT
BEGIN:STANDARD
TZOFFSETFROM:-0400
TZOFFSETTO:-0500
TZNAME:EST
DTSTART:20241103T060000
END:STANDARD
END:VTIMEZONE
BEGIN:VEVENT
DTSTART;TZID=America/New_York:20230924T190000
DTEND;TZID=America/New_York:20230924T223000
DTSTAMP:20260423T110402
CREATED:20230914T010947Z
LAST-MODIFIED:20230914T010958Z
UID:29289-1695582000-1695594600@thevelvetnote.com
SUMMARY:Sunday\, September 24th:  A Celebration of John Coltrane with Eric Wyatt and Guest Jeff "Tain" Watts
DESCRIPTION:This month\, we continue to celebrate the birthday of John Coltrane (Sept 23\, 1926)\, an American jazz saxophonist\, bandleader and composer. He is among the most influential and acclaimed figures in the history of jazz and 20th-century music. \n\n\n\nHeading up the celebration is Eric Wyatt\, who brings his band mates from New York down to light of the stage.  Joining him is legendary special guest Jeff “Tain” Watts.  Tain is a drummer who has performed with Wynton Marsalis\, Branford Marsalis\, Betty Carter\, Michael Brecker\, Ravi Coltrane and many more!
URL:https://thevelvetnote.com/event/sunday-september-24th-a-celebration-of-john-coltrane-with-eric-wyatt-and-guest-jeff-tain-watts/
LOCATION:The Velvet Note Main Stage\, 4075 Old Milton Parkway\, Alpharetta\, 30005\, United States
ATTACH;FMTTYPE=image/jpeg:https://thevelvetnote.com/wp-content/uploads/2023/09/Add-a-subheading-24.jpg
END:VEVENT
END:VCALENDAR