BEGIN:VCALENDAR
VERSION:2.0
PRODID:-//The Velvet Note - ECPv6.15.20//NONSGML v1.0//EN
CALSCALE:GREGORIAN
METHOD:PUBLISH
X-ORIGINAL-URL:https://thevelvetnote.com
X-WR-CALDESC:Events for The Velvet Note
REFRESH-INTERVAL;VALUE=DURATION:PT1H
X-Robots-Tag:noindex
X-PUBLISHED-TTL:PT1H
BEGIN:VTIMEZONE
TZID:America/New_York
BEGIN:DAYLIGHT
TZOFFSETFROM:-0500
TZOFFSETTO:-0400
TZNAME:EDT
DTSTART:20220313T070000
END:DAYLIGHT
BEGIN:STANDARD
TZOFFSETFROM:-0400
TZOFFSETTO:-0500
TZNAME:EST
DTSTART:20221106T060000
END:STANDARD
BEGIN:DAYLIGHT
TZOFFSETFROM:-0500
TZOFFSETTO:-0400
TZNAME:EDT
DTSTART:20230312T070000
END:DAYLIGHT
BEGIN:STANDARD
TZOFFSETFROM:-0400
TZOFFSETTO:-0500
TZNAME:EST
DTSTART:20231105T060000
END:STANDARD
BEGIN:DAYLIGHT
TZOFFSETFROM:-0500
TZOFFSETTO:-0400
TZNAME:EDT
DTSTART:20240310T070000
END:DAYLIGHT
BEGIN:STANDARD
TZOFFSETFROM:-0400
TZOFFSETTO:-0500
TZNAME:EST
DTSTART:20241103T060000
END:STANDARD
END:VTIMEZONE
BEGIN:VEVENT
DTSTART;TZID=America/New_York:20230909T193000
DTEND;TZID=America/New_York:20230909T230000
DTSTAMP:20260423T110551
CREATED:20230829T150051Z
LAST-MODIFIED:20230829T151501Z
UID:29249-1694287800-1694300400@thevelvetnote.com
SUMMARY:Saturday\, September 9th:  Cainan Grier--Communion
DESCRIPTION:SHOWTIMES:  7:30PM AND 9:30PM.   Cainan Grier is a Jazz and R&B vocalist and pianist with roots grounded in classical\, gospel and world music styles. Originally from Miami\, Florida\, Cainan is an alumnus of Berklee College of Music where he studied under some of the greatest musicians of our time and has performed on stages with legendary vocalist Fred Hammond and Donnie McClurkin . Cainan’s performance style and musicality draws an emphasis on the storytelling nature of music\, and creates a vibe that is not only pleasing to the ear\, but to the heart\, mind and soul as well.  \n\n\n\nIn his sophomore show at The Velvet Note\, Communion\, Cainan uses his unique storytelling ability and musical intuition to create a musical review of the human experience. Through of the pen of some of the greatest lyricists of our time and the harmonic language of gospel and jazz\, Cainan acts as a shepherd\, guiding you on a journey of what it means to be human: to love\, to laugh\, to lose\, and to live!
URL:https://thevelvetnote.com/event/saturday-september-9th-cainan-grier-communion/
LOCATION:The Velvet Note Main Stage\, 4075 Old Milton Parkway\, Alpharetta\, 30005\, United States
ATTACH;FMTTYPE=image/jpeg:https://thevelvetnote.com/wp-content/uploads/2023/08/Tezza-3066-scaled.jpeg
END:VEVENT
END:VCALENDAR