BEGIN:VCALENDAR
VERSION:2.0
PRODID:-//The Velvet Note - ECPv6.15.20//NONSGML v1.0//EN
CALSCALE:GREGORIAN
METHOD:PUBLISH
X-ORIGINAL-URL:https://thevelvetnote.com
X-WR-CALDESC:Events for The Velvet Note
REFRESH-INTERVAL;VALUE=DURATION:PT1H
X-Robots-Tag:noindex
X-PUBLISHED-TTL:PT1H
BEGIN:VTIMEZONE
TZID:America/New_York
BEGIN:DAYLIGHT
TZOFFSETFROM:-0500
TZOFFSETTO:-0400
TZNAME:EDT
DTSTART:20220313T070000
END:DAYLIGHT
BEGIN:STANDARD
TZOFFSETFROM:-0400
TZOFFSETTO:-0500
TZNAME:EST
DTSTART:20221106T060000
END:STANDARD
BEGIN:DAYLIGHT
TZOFFSETFROM:-0500
TZOFFSETTO:-0400
TZNAME:EDT
DTSTART:20230312T070000
END:DAYLIGHT
BEGIN:STANDARD
TZOFFSETFROM:-0400
TZOFFSETTO:-0500
TZNAME:EST
DTSTART:20231105T060000
END:STANDARD
BEGIN:DAYLIGHT
TZOFFSETFROM:-0500
TZOFFSETTO:-0400
TZNAME:EDT
DTSTART:20240310T070000
END:DAYLIGHT
BEGIN:STANDARD
TZOFFSETFROM:-0400
TZOFFSETTO:-0500
TZNAME:EST
DTSTART:20241103T060000
END:STANDARD
END:VTIMEZONE
BEGIN:VEVENT
DTSTART;TZID=America/New_York:20230901T193000
DTEND;TZID=America/New_York:20230903T223000
DTSTAMP:20260423T110551
CREATED:20230530T022855Z
LAST-MODIFIED:20230714T134311Z
UID:28989-1693596600-1693780200@thevelvetnote.com
SUMMARY:Friday\, September 1st\, Saturday\, September 2nd and Sunday\, September 3rd:  Ray Howard Band's Tribute to Earth\, Wind & Fire!
DESCRIPTION:FRIDAY AND SATURDAY SHOWTIMES:  7:30pm and 9:30pm.  SUNDAY SHOWTIMES: 7:00pm and 9:00pm.  Do you remember?  This is it!  Our annual\, Labor Day Earth\, Wind and Fire celebration is back and the Ray Howard Band does it like no one else.    These show sell out within days\, so get your reservations now!
URL:https://thevelvetnote.com/event/saturday-june-10th-ray-howards-gemini-tribute-to-earth-wind-fire/
LOCATION:The Velvet Note Main Stage\, 4075 Old Milton Parkway\, Alpharetta\, 30005\, United States
ATTACH;FMTTYPE=image/jpeg:https://thevelvetnote.com/wp-content/uploads/2023/05/56A78B9B-7E1D-4BD7-A2CE-62DB261A3149.jpeg
END:VEVENT
END:VCALENDAR