BEGIN:VCALENDAR
VERSION:2.0
PRODID:-//The Velvet Note - ECPv6.15.20//NONSGML v1.0//EN
CALSCALE:GREGORIAN
METHOD:PUBLISH
X-WR-CALNAME:The Velvet Note
X-ORIGINAL-URL:https://thevelvetnote.com
X-WR-CALDESC:Events for The Velvet Note
REFRESH-INTERVAL;VALUE=DURATION:PT1H
X-Robots-Tag:noindex
X-PUBLISHED-TTL:PT1H
BEGIN:VTIMEZONE
TZID:America/New_York
BEGIN:DAYLIGHT
TZOFFSETFROM:-0500
TZOFFSETTO:-0400
TZNAME:EDT
DTSTART:20220313T070000
END:DAYLIGHT
BEGIN:STANDARD
TZOFFSETFROM:-0400
TZOFFSETTO:-0500
TZNAME:EST
DTSTART:20221106T060000
END:STANDARD
BEGIN:DAYLIGHT
TZOFFSETFROM:-0500
TZOFFSETTO:-0400
TZNAME:EDT
DTSTART:20230312T070000
END:DAYLIGHT
BEGIN:STANDARD
TZOFFSETFROM:-0400
TZOFFSETTO:-0500
TZNAME:EST
DTSTART:20231105T060000
END:STANDARD
BEGIN:DAYLIGHT
TZOFFSETFROM:-0500
TZOFFSETTO:-0400
TZNAME:EDT
DTSTART:20240310T070000
END:DAYLIGHT
BEGIN:STANDARD
TZOFFSETFROM:-0400
TZOFFSETTO:-0500
TZNAME:EST
DTSTART:20241103T060000
END:STANDARD
END:VTIMEZONE
BEGIN:VEVENT
DTSTART;TZID=America/New_York:20230813T190000
DTEND;TZID=America/New_York:20230813T203000
DTSTAMP:20260423T123120
CREATED:20220719T123716Z
LAST-MODIFIED:20230803T182306Z
UID:28085-1691953200-1691958600@thevelvetnote.com
SUMMARY:Sunday\, August 13th:  The Matthew Sperry Quartet
DESCRIPTION:Matthew Sperry is the instrumental winner of The Velvet Note’s 2022 Open Mic Competition.  This accomplished pianist has spent the past year as a student at the prestigious Frost School of Music at The University of Miami in Coral Gables\, Florida\, and he’s ready to rumble!  Matthew has wowed audiences with his creative interpretations of jazz standards and his intricate finger work\, and we look forward to bringing him back for another spectacular concert performance. \n\n\n\nMatthew Sperry (piano)\, Bill Hart (guitar)\, Andre Manga (bass)\, Yakou N’Guesson (drums)
URL:https://thevelvetnote.com/event/sunday-august-14th-the-matt-sperry-trio/
LOCATION:The Velvet Note Main Stage\, 4075 Old Milton Parkway\, Alpharetta\, 30005\, United States
ATTACH;FMTTYPE=image/jpeg:https://thevelvetnote.com/wp-content/uploads/2022/07/unknown-1.jpeg
END:VEVENT
END:VCALENDAR