BEGIN:VCALENDAR
VERSION:2.0
PRODID:-//The Velvet Note - ECPv6.15.20//NONSGML v1.0//EN
CALSCALE:GREGORIAN
METHOD:PUBLISH
X-ORIGINAL-URL:https://thevelvetnote.com
X-WR-CALDESC:Events for The Velvet Note
REFRESH-INTERVAL;VALUE=DURATION:PT1H
X-Robots-Tag:noindex
X-PUBLISHED-TTL:PT1H
BEGIN:VTIMEZONE
TZID:America/New_York
BEGIN:DAYLIGHT
TZOFFSETFROM:-0500
TZOFFSETTO:-0400
TZNAME:EDT
DTSTART:20220313T070000
END:DAYLIGHT
BEGIN:STANDARD
TZOFFSETFROM:-0400
TZOFFSETTO:-0500
TZNAME:EST
DTSTART:20221106T060000
END:STANDARD
BEGIN:DAYLIGHT
TZOFFSETFROM:-0500
TZOFFSETTO:-0400
TZNAME:EDT
DTSTART:20230312T070000
END:DAYLIGHT
BEGIN:STANDARD
TZOFFSETFROM:-0400
TZOFFSETTO:-0500
TZNAME:EST
DTSTART:20231105T060000
END:STANDARD
BEGIN:DAYLIGHT
TZOFFSETFROM:-0500
TZOFFSETTO:-0400
TZNAME:EDT
DTSTART:20240310T070000
END:DAYLIGHT
BEGIN:STANDARD
TZOFFSETFROM:-0400
TZOFFSETTO:-0500
TZNAME:EST
DTSTART:20241103T060000
END:STANDARD
END:VTIMEZONE
BEGIN:VEVENT
DTSTART;TZID=America/New_York:20230806T190000
DTEND;TZID=America/New_York:20230806T210000
DTSTAMP:20260423T123206
CREATED:20230713T224818Z
LAST-MODIFIED:20230714T131432Z
UID:29119-1691348400-1691355600@thevelvetnote.com
SUMMARY:Sunday\, August 6th:  Jazz Singer Tia Rix
DESCRIPTION:ONE SHOW ONLY!  Tia Rix was born to sing. The daughter of Atlanta jazz legends Bob and Phyllis Rix\, Tia began recording commercials and soundtracks at age 13. She traveled west to earn her degree and train at Brigham Young University with world-renowned tenors Ray Arbizu and Terry McCombs\, then sang her way through Scandinavia\, the Netherlands\, Switzerland and Germany. Despite her classical music education\, Tia’s passion has always been jazz. She has sung at Birdland\, Mezzrow’s\, and Small’s in New York. She has been at Good Times Jazz Bar and Restaurant in Savannah\, Ga\, She has had the pleasure of playing with some of the jazz greats\, NYC\, NY pianist Johnny O’Neal; NYC\, NY bassist Steve Doyle; Teaneck\, NJ guitarist Russell Malone; and NYC\, NY guitarist Pasquale Grasso. You can catch her performing live at the numerous jazz venues around Atlanta such as the Velvet Note\, Churchill Grounds at Ten ATL\, Red Light Cafe and many others. World class jazz trumpeter\, Art Hoyle\, featured soloist with Ella Fitzgerald\, Sarah Vaughn\, Quincy Jones and Henry Mancini said of Tia “that this is the voice of the female Chet Baker.” Tia’s CD’s Dragonfly and Where You Live can be heard on all streaming platforms.
URL:https://thevelvetnote.com/event/sunday-august-6th-jazz-singer-tia-rix/
LOCATION:The Velvet Note Main Stage\, 4075 Old Milton Parkway\, Alpharetta\, 30005\, United States
ATTACH;FMTTYPE=image/jpeg:https://thevelvetnote.com/wp-content/uploads/2023/07/Tia-at-The-Crossing-Edit.jpg
END:VEVENT
END:VCALENDAR