BEGIN:VCALENDAR
VERSION:2.0
PRODID:-//The Velvet Note - ECPv6.15.20//NONSGML v1.0//EN
CALSCALE:GREGORIAN
METHOD:PUBLISH
X-WR-CALNAME:The Velvet Note
X-ORIGINAL-URL:https://thevelvetnote.com
X-WR-CALDESC:Events for The Velvet Note
REFRESH-INTERVAL;VALUE=DURATION:PT1H
X-Robots-Tag:noindex
X-PUBLISHED-TTL:PT1H
BEGIN:VTIMEZONE
TZID:America/New_York
BEGIN:DAYLIGHT
TZOFFSETFROM:-0500
TZOFFSETTO:-0400
TZNAME:EDT
DTSTART:20220313T070000
END:DAYLIGHT
BEGIN:STANDARD
TZOFFSETFROM:-0400
TZOFFSETTO:-0500
TZNAME:EST
DTSTART:20221106T060000
END:STANDARD
BEGIN:DAYLIGHT
TZOFFSETFROM:-0500
TZOFFSETTO:-0400
TZNAME:EDT
DTSTART:20230312T070000
END:DAYLIGHT
BEGIN:STANDARD
TZOFFSETFROM:-0400
TZOFFSETTO:-0500
TZNAME:EST
DTSTART:20231105T060000
END:STANDARD
BEGIN:DAYLIGHT
TZOFFSETFROM:-0500
TZOFFSETTO:-0400
TZNAME:EDT
DTSTART:20240310T070000
END:DAYLIGHT
BEGIN:STANDARD
TZOFFSETFROM:-0400
TZOFFSETTO:-0500
TZNAME:EST
DTSTART:20241103T060000
END:STANDARD
END:VTIMEZONE
BEGIN:VEVENT
DTSTART;TZID=America/New_York:20230625T190000
DTEND;TZID=America/New_York:20230625T203000
DTSTAMP:20260423T152609
CREATED:20230530T221700Z
LAST-MODIFIED:20230625T142439Z
UID:29013-1687719600-1687725000@thevelvetnote.com
SUMMARY:Sunday\, June 25th: A Tribute To Chick Corea by The Zach Bartholomew Trio  *** SOLD OUT!!  SOLD OUT!!  SOLD OUT!!  ***
DESCRIPTION:ONE SHOW ONLY:  7pm.   Dr. Zachary Bartholomew is an award-winning jazz pianist\, composer\, and music educator who maintains an active performance career as one of the most heavily sought-after pianists\, accompanists\, and sidemen in South Florida. In both 2016 and 2017\, he placed as one of the top three finalists in the highly acclaimed Jacksonville Jazz Piano Competition and has since been featured as a performer\, composer\, and bandleader at various national and international jazz festivals\, including the Jacksonville Jazz Festival\, Monterey Jazz Festival\, Jalisco Jazz Festival\, and Festival Miami\, among others. Zach’s original music and unique arrangements are inspired by the jazz tradition\, but also draw heavily from Afro-Cuban rhythms and modern influences. He and his band are featured on radio broadcasts\, concert series\, and regionally promoted events at music venues all over Florida\, and he performs with professional organizations such as the Sarasota Pops Orchestra\, Naples Philharmonic\, the Gulf Coast Symphony Jazz Collective\, and the Lake Wales Jazz Connection. \n\n\n\nIn this extraordinary performance\, Zach and his trio remember the greatness of jazz pianist and composer Chick Corea.
URL:https://thevelvetnote.com/event/sunday-june-25th-a-tribute-to-chick-corea-by-the-zach-bartholomew-trio/
LOCATION:The Velvet Note Main Stage\, 4075 Old Milton Parkway\, Alpharetta\, 30005\, United States
ATTACH;FMTTYPE=image/jpeg:https://thevelvetnote.com/wp-content/uploads/2023/05/Add-a-subheading-23.jpg
END:VEVENT
END:VCALENDAR