BEGIN:VCALENDAR
VERSION:2.0
PRODID:-//The Velvet Note - ECPv6.15.20//NONSGML v1.0//EN
CALSCALE:GREGORIAN
METHOD:PUBLISH
X-WR-CALNAME:The Velvet Note
X-ORIGINAL-URL:https://thevelvetnote.com
X-WR-CALDESC:Events for The Velvet Note
REFRESH-INTERVAL;VALUE=DURATION:PT1H
X-Robots-Tag:noindex
X-PUBLISHED-TTL:PT1H
BEGIN:VTIMEZONE
TZID:America/New_York
BEGIN:DAYLIGHT
TZOFFSETFROM:-0500
TZOFFSETTO:-0400
TZNAME:EDT
DTSTART:20220313T070000
END:DAYLIGHT
BEGIN:STANDARD
TZOFFSETFROM:-0400
TZOFFSETTO:-0500
TZNAME:EST
DTSTART:20221106T060000
END:STANDARD
BEGIN:DAYLIGHT
TZOFFSETFROM:-0500
TZOFFSETTO:-0400
TZNAME:EDT
DTSTART:20230312T070000
END:DAYLIGHT
BEGIN:STANDARD
TZOFFSETFROM:-0400
TZOFFSETTO:-0500
TZNAME:EST
DTSTART:20231105T060000
END:STANDARD
BEGIN:DAYLIGHT
TZOFFSETFROM:-0500
TZOFFSETTO:-0400
TZNAME:EDT
DTSTART:20240310T070000
END:DAYLIGHT
BEGIN:STANDARD
TZOFFSETFROM:-0400
TZOFFSETTO:-0500
TZNAME:EST
DTSTART:20241103T060000
END:STANDARD
END:VTIMEZONE
BEGIN:VEVENT
DTSTART;TZID=America/New_York:20230624T193000
DTEND;TZID=America/New_York:20230624T230000
DTSTAMP:20260423T152557
CREATED:20230618T201500Z
LAST-MODIFIED:20230623T214207Z
UID:29057-1687635000-1687647600@thevelvetnote.com
SUMMARY:Saturday\, June 24th:  The Terence Harper Project Featuring The Legendary Audrey Shakir *** SOLD OUT!!  SOLD OUT!!  SOLD OUT !!!   ****
DESCRIPTION:***  NOTE:  This date was previously headlined by Trina Boussard *** \n\n\n\nSHOWTIMES:  7:30pm and 9:30pm. Terence Harper is one of the youngest members of the Harper Family Dynasty and is currently touring around the world. He has played and recorded with the Great Curtis Lundy\, Steve Turre\, Jimmy Heath\, Musiq Soulchild\, Solange\, Keith David\, Bobby Watson and Chinese Movie Star and Mandopop artist Andy Lau just to name a few! Terence has also appeared on numerous television shows and movies including\, The Orignals as well as the remake of the movie The Color Purple\, directed by Blitz Bazawule and produced by Quincy Jones\, Scott Sanders\, Steven Spielberg and Oprah Winfrey.  \n\n\n\nAudrey Shakir (website) is a jazz-pop vocalist extraordinaire – dubbed Atlanta’s First Lady of Jazz\, she has entertained throughout the United States and internationally. Her scatting talents have been compared to the great Ella Fitzgerald\, and she brings a remarkable jazz influence to all the material she performs.
URL:https://thevelvetnote.com/event/saturday-june-24th-the-terence-harper-project-featuring-the-legendary-audrey-shakir/
LOCATION:The Velvet Note Main Stage\, 4075 Old Milton Parkway\, Alpharetta\, 30005\, United States
ATTACH;FMTTYPE=image/jpeg:https://thevelvetnote.com/wp-content/uploads/2023/06/the-terence-harper-project-6-24.jpg
END:VEVENT
END:VCALENDAR