BEGIN:VCALENDAR
VERSION:2.0
PRODID:-//The Velvet Note - ECPv6.15.20//NONSGML v1.0//EN
CALSCALE:GREGORIAN
METHOD:PUBLISH
X-WR-CALNAME:The Velvet Note
X-ORIGINAL-URL:https://thevelvetnote.com
X-WR-CALDESC:Events for The Velvet Note
REFRESH-INTERVAL;VALUE=DURATION:PT1H
X-Robots-Tag:noindex
X-PUBLISHED-TTL:PT1H
BEGIN:VTIMEZONE
TZID:America/New_York
BEGIN:DAYLIGHT
TZOFFSETFROM:-0500
TZOFFSETTO:-0400
TZNAME:EDT
DTSTART:20230312T070000
END:DAYLIGHT
BEGIN:STANDARD
TZOFFSETFROM:-0400
TZOFFSETTO:-0500
TZNAME:EST
DTSTART:20231105T060000
END:STANDARD
BEGIN:DAYLIGHT
TZOFFSETFROM:-0500
TZOFFSETTO:-0400
TZNAME:EDT
DTSTART:20240310T070000
END:DAYLIGHT
BEGIN:STANDARD
TZOFFSETFROM:-0400
TZOFFSETTO:-0500
TZNAME:EST
DTSTART:20241103T060000
END:STANDARD
BEGIN:DAYLIGHT
TZOFFSETFROM:-0500
TZOFFSETTO:-0400
TZNAME:EDT
DTSTART:20250309T070000
END:DAYLIGHT
BEGIN:STANDARD
TZOFFSETFROM:-0400
TZOFFSETTO:-0500
TZNAME:EST
DTSTART:20251102T060000
END:STANDARD
END:VTIMEZONE
BEGIN:VEVENT
DTSTART;TZID=America/New_York:20241116T193000
DTEND;TZID=America/New_York:20241116T224500
DTSTAMP:20260423T152609
CREATED:20230530T185731Z
LAST-MODIFIED:20241101T140035Z
UID:29003-1731785400-1731797100@thevelvetnote.com
SUMMARY:Friday\, November 16th:  Trumpetiste Tiffany Goode
DESCRIPTION:SHOWTIMES:  7:30PM AND 9:30PM.  Tiffany Goode was born in Richmond\, Virginia and currently resides in Atlanta\, Georgia. She began her love affair with music and the trumpet at 10 years old. During her formative years of high school and college\, Tiffany had the privilege of studying under her mentors\, Tuscan Jasper and Bob Ransom respectively\, two professional jazz trumpet players. She received a Bachelors of Science in Music from Hampton University in Audio Engineering\, and has since received a professional certification in Producing Music for Film and TV\, from Berklee College of Music and a Masters in Ethnomusicology from Liberty University. \n\n\n\nTiffany enjoys fusing jazz with her other musical influences like reggae\, hip-hop\, in order to create her own sound.  \n\n\n\nTiffany’s music has been featured in several independent films including Joy Road\, Every Scar and Dimple and Break/Fast. Over her lifetime\, Tiffany has had the opportunity to grace the stage with many notable local and national musicians including the Count Basie Orchestra\, Tito Puente Jr.\, Myrna Clayton\, Pato Banton\, Jesse Royal\, Jah9\, SaRoc and Derrick “Hott Soss” Cummings to name a few.
URL:https://thevelvetnote.com/event/sunday-june-18th-fathers-day-celebration-with-trumpetiste-tiffany-goode/
LOCATION:The Velvet Note Main Stage\, 4075 Old Milton Parkway\, Alpharetta\, 30005\, United States
ATTACH;FMTTYPE=image/jpeg:https://thevelvetnote.com/wp-content/uploads/2023/05/6E937A92-FC5C-4291-8928-CB4807B16B99.jpeg
END:VEVENT
END:VCALENDAR