BEGIN:VCALENDAR
VERSION:2.0
PRODID:-//The Velvet Note - ECPv6.15.20//NONSGML v1.0//EN
CALSCALE:GREGORIAN
METHOD:PUBLISH
X-WR-CALNAME:The Velvet Note
X-ORIGINAL-URL:https://thevelvetnote.com
X-WR-CALDESC:Events for The Velvet Note
REFRESH-INTERVAL;VALUE=DURATION:PT1H
X-Robots-Tag:noindex
X-PUBLISHED-TTL:PT1H
BEGIN:VTIMEZONE
TZID:America/New_York
BEGIN:DAYLIGHT
TZOFFSETFROM:-0500
TZOFFSETTO:-0400
TZNAME:EDT
DTSTART:20220313T070000
END:DAYLIGHT
BEGIN:STANDARD
TZOFFSETFROM:-0400
TZOFFSETTO:-0500
TZNAME:EST
DTSTART:20221106T060000
END:STANDARD
BEGIN:DAYLIGHT
TZOFFSETFROM:-0500
TZOFFSETTO:-0400
TZNAME:EDT
DTSTART:20230312T070000
END:DAYLIGHT
BEGIN:STANDARD
TZOFFSETFROM:-0400
TZOFFSETTO:-0500
TZNAME:EST
DTSTART:20231105T060000
END:STANDARD
BEGIN:DAYLIGHT
TZOFFSETFROM:-0500
TZOFFSETTO:-0400
TZNAME:EDT
DTSTART:20240310T070000
END:DAYLIGHT
BEGIN:STANDARD
TZOFFSETFROM:-0400
TZOFFSETTO:-0500
TZNAME:EST
DTSTART:20241103T060000
END:STANDARD
END:VTIMEZONE
BEGIN:VEVENT
DTSTART;TZID=America/New_York:20230604T190000
DTEND;TZID=America/New_York:20230604T203000
DTSTAMP:20260423T152559
CREATED:20230523T231937Z
LAST-MODIFIED:20230602T194150Z
UID:28973-1685905200-1685910600@thevelvetnote.com
SUMMARY:Sunday\, June 4th:  Legends of Jazz Presents the Music of Charles Mingus  *** SOLD OUT!!  SOLD OUT!!  SOLD OUT!! ***
DESCRIPTION:Best Charles Mingus Songs of All Time\n\n\n\nONE SHOW ONLY @ 7:00pm. Legends of Jazz Series presents a celebration of the music of Charles Mingus. \n\n\n\nJustin Varnes and his quartet will guide guests–in engaging\, narrative form– through the life of this legendary upright bassist\, pianist and composer\, as well as the impact that he had on the legacy of jazz. It’s like taking in a concert and taking a jazz history class at the same time. \n\n\n\nOh\, and they’ll also play their behinds off!
URL:https://thevelvetnote.com/event/sunday-june-4th-legends-of-jazz-presents-the-music-of-charles-mingus/
LOCATION:The Velvet Note Main Stage\, 4075 Old Milton Parkway\, Alpharetta\, 30005\, United States
ATTACH;FMTTYPE=image/jpeg:https://thevelvetnote.com/wp-content/uploads/2023/05/15F3A4CE-2FE4-48C0-86CB-D7C82EC3DF04.jpeg
END:VEVENT
END:VCALENDAR